BEGIN:VCALENDAR
VERSION:2.0
PRODID:-//Previsonor - ECPv6.15.15//NONSGML v1.0//EN
CALSCALE:GREGORIAN
METHOD:PUBLISH
X-WR-CALNAME:Previsonor
X-ORIGINAL-URL:https://previsonor.es
X-WR-CALDESC:Eventos para Previsonor
REFRESH-INTERVAL;VALUE=DURATION:PT1H
X-Robots-Tag:noindex
X-PUBLISHED-TTL:PT1H
BEGIN:VTIMEZONE
TZID:UTC
BEGIN:STANDARD
TZOFFSETFROM:+0000
TZOFFSETTO:+0000
TZNAME:UTC
DTSTART:20230101T000000
END:STANDARD
END:VTIMEZONE
BEGIN:VEVENT
DTSTART;TZID=UTC:20250131T080000
DTEND;TZID=UTC:20250131T140000
DTSTAMP:20260421T221205
CREATED:20250114T170044Z
LAST-MODIFIED:20250228T230015Z
UID:3767-1738310400-1738332000@previsonor.es
SUMMARY:PREVENCION DE RIESGOS LABORALES PARA DEMOLICION Y REHABILITACION (20 H) en PREVISONOR VIGO  de 2025-01-29 a 2025-01-31
DESCRIPTION:Modalidad: Presencial\n        Fecha de inicio: 2025-01-29\n        Fecha de finalización: 2025-01-31Duración: 20 horas \nFechas clases presenciales (20 horas): \n\n2025-01-29 (Miércoles)\n2025-01-30 (Jueves)
URL:https://previsonor.es/evento/prevencion-de-riesgos-laborales-para-demolicion-y-rehabilitacion-20-h-en-previsonor-vigo-de-2025-01-29-a-2025-01-31-3/
END:VEVENT
BEGIN:VEVENT
DTSTART;TZID=UTC:20250131T000000
DTEND;TZID=UTC:20250221T000000
DTSTAMP:20260421T221205
CREATED:20250127T100148Z
LAST-MODIFIED:20250228T230039Z
UID:3869-1738281600-1740096000@previsonor.es
SUMMARY:NIVEL BASICO DE PREVENCION EN CONSTRUCCION 20P+40O en AULA GRANADA y Aula Formanor de 2025-01-31 a 2025-02-21
DESCRIPTION:Modalidad: Online\n        Fecha de inicio: 2025-01-31\n        Fecha de finalización: 2025-02-21Duración: 60 horas \nFechas clases presenciales (20 horas): \n\n2025-01-31 (Viernes)\n2025-02-07 (Viernes)\n2025-02-14 (Viernes)\n\n \n\n\n            Tutorías y teleformación (40 horas): \n\nDe lunes a jueves de 9 a 12
URL:https://previsonor.es/evento/nivel-basico-de-prevencion-en-construccion-20p40o-en-aula-granada-y-aula-formanor-de-2025-01-31-a-2025-02-21-4/
END:VEVENT
BEGIN:VEVENT
DTSTART;TZID=UTC:20250131T000000
DTEND;TZID=UTC:20250221T000000
DTSTAMP:20260421T221205
CREATED:20250117T100051Z
LAST-MODIFIED:20250228T230019Z
UID:3788-1738281600-1740096000@previsonor.es
SUMMARY:NIVEL BASICO DE PREVENCION 20P+40O en PREVISONOR Ourense y Aula Formanor de 2025-01-31 a 2025-02-21
DESCRIPTION:Modalidad: Online\n        Fecha de inicio: 2025-01-31\n        Fecha de finalización: 2025-02-21Duración: 60 horas \nFechas clases presenciales (20 horas): \n\n2025-01-31 (Viernes)\n2025-02-07 (Viernes)\n2025-02-14 (Viernes)\n\n \n\n\n            Tutorías y teleformación (40 horas): \n\nDel 31/01/2025 al 21/02/2025 de 09:00 a 11:30
URL:https://previsonor.es/evento/nivel-basico-de-prevencion-20p40o-en-previsonor-ourense-y-aula-formanor-de-2025-01-31-a-2025-02-21-5/
END:VEVENT
BEGIN:VEVENT
DTSTART;TZID=UTC:20250130T143000
DTEND;TZID=UTC:20250130T183000
DTSTAMP:20260421T221205
CREATED:20250117T090046Z
LAST-MODIFIED:20250228T230020Z
UID:3783-1738247400-1738261800@previsonor.es
SUMMARY:C2 PRL Trabajos de construcción\, reparación y mantenimiento naval en astilleros y muelles en AULA VARADEROS DE  CILLERO de 2025-01-30 a 2025-01-30
DESCRIPTION:Modalidad: Presencial\n        Fecha de inicio: 2025-01-30\n        Fecha de finalización: 2025-01-30Duración: 4 horas
URL:https://previsonor.es/evento/c2-prl-trabajos-de-construccion-reparacion-y-mantenimiento-naval-en-astilleros-y-muelles-en-aula-varaderos-de-cillero-de-2025-01-30-a-2025-01-30/
END:VEVENT
BEGIN:VEVENT
DTSTART;TZID=UTC:20250130T140000
DTEND;TZID=UTC:20250130T200000
DTSTAMP:20260421T221205
CREATED:20250122T140126Z
LAST-MODIFIED:20250228T230029Z
UID:3845-1738245600-1738267200@previsonor.es
SUMMARY:CURSO ESPECIFICO PARA ALBAÑILERIA en PREVISONOR VIGO  de 2025-01-30 a 2025-01-30
DESCRIPTION:Modalidad: Presencial\n        Fecha de inicio: 2025-01-30\n        Fecha de finalización: 2025-01-30Duración: 6 horas
URL:https://previsonor.es/evento/curso-especifico-para-albanileria-en-previsonor-vigo-de-2025-01-30-a-2025-01-30/
END:VEVENT
BEGIN:VEVENT
DTSTART;TZID=UTC:20250130T140000
DTEND;TZID=UTC:20250130T200000
DTSTAMP:20260421T221205
CREATED:20250122T090052Z
LAST-MODIFIED:20250228T230021Z
UID:3801-1738245600-1738267200@previsonor.es
SUMMARY:PREVENCION DE RIESGOS LABORALES PARA ALBAÑILERIA (20 H) en PREVISONOR VIGO  de 2025-01-28 a 2025-01-30
DESCRIPTION:Modalidad: Presencial\n        Fecha de inicio: 2025-01-28\n        Fecha de finalización: 2025-01-30Duración: 20 horas \nFechas clases presenciales (20 horas): \n\n2025-01-28 (Martes)\n2025-01-29 (Miércoles)
URL:https://previsonor.es/evento/prevencion-de-riesgos-laborales-para-albanileria-20-h-en-previsonor-vigo-de-2025-01-28-a-2025-01-30-3/
END:VEVENT
BEGIN:VEVENT
DTSTART;TZID=UTC:20250130T080000
DTEND;TZID=UTC:20250130T160000
DTSTAMP:20260421T221205
CREATED:20241218T150046Z
LAST-MODIFIED:20250228T230007Z
UID:3714-1738224000-1738252800@previsonor.es
SUMMARY:PRL PARA  TRABAJOS DE CONSTRUCCION\, REPARACION Y MANTENIMIENTO NAVAL EN ASTILLEROS Y MUELLES 20P en PREVISONOR VIGO  de 2025-01-28 a 2025-01-30
DESCRIPTION:Modalidad: Presencial\n        Fecha de inicio: 2025-01-28\n        Fecha de finalización: 2025-01-30Duración: 20 horas \nFechas clases presenciales (20 horas): \n\n2025-01-28 (Martes)\n2025-01-29 (Miércoles)
URL:https://previsonor.es/evento/prl-para-trabajos-de-construccion-reparacion-y-mantenimiento-naval-en-astilleros-y-muelles-20p-en-previsonor-vigo-de-2025-01-28-a-2025-01-30-3/
END:VEVENT
BEGIN:VEVENT
DTSTART;TZID=UTC:20250130T080000
DTEND;TZID=UTC:20250130T150000
DTSTAMP:20260421T221205
CREATED:20250114T170043Z
LAST-MODIFIED:20250228T230015Z
UID:3766-1738224000-1738249200@previsonor.es
SUMMARY:PREVENCION DE RIESGOS LABORALES PARA DEMOLICION Y REHABILITACION (20 H) en PREVISONOR VIGO  de 2025-01-29 a 2025-01-31
DESCRIPTION:Modalidad: Presencial\n        Fecha de inicio: 2025-01-29\n        Fecha de finalización: 2025-01-31Duración: 20 horas \nFechas clases presenciales (20 horas): \n\n2025-01-29 (Miércoles)\n2025-01-30 (Jueves)
URL:https://previsonor.es/evento/prevencion-de-riesgos-laborales-para-demolicion-y-rehabilitacion-20-h-en-previsonor-vigo-de-2025-01-29-a-2025-01-31-2/
END:VEVENT
BEGIN:VEVENT
DTSTART;TZID=UTC:20250129T140000
DTEND;TZID=UTC:20250129T210000
DTSTAMP:20260421T221205
CREATED:20250122T090046Z
LAST-MODIFIED:20250228T230021Z
UID:3800-1738159200-1738184400@previsonor.es
SUMMARY:PREVENCION DE RIESGOS LABORALES PARA ALBAÑILERIA (20 H) en PREVISONOR VIGO  de 2025-01-28 a 2025-01-30
DESCRIPTION:Modalidad: Presencial\n        Fecha de inicio: 2025-01-28\n        Fecha de finalización: 2025-01-30Duración: 20 horas \nFechas clases presenciales (20 horas): \n\n2025-01-28 (Martes)\n2025-01-29 (Miércoles)
URL:https://previsonor.es/evento/prevencion-de-riesgos-laborales-para-albanileria-20-h-en-previsonor-vigo-de-2025-01-28-a-2025-01-30-2/
END:VEVENT
BEGIN:VEVENT
DTSTART;TZID=UTC:20250129T080000
DTEND;TZID=UTC:20250129T150000
DTSTAMP:20260421T221205
CREATED:20250114T170043Z
LAST-MODIFIED:20250228T230010Z
UID:3765-1738137600-1738162800@previsonor.es
SUMMARY:PREVENCION DE RIESGOS LABORALES PARA DEMOLICION Y REHABILITACION (20 H) en PREVISONOR VIGO  de 2025-01-29 a 2025-01-31
DESCRIPTION:Modalidad: Presencial\n        Fecha de inicio: 2025-01-29\n        Fecha de finalización: 2025-01-31Duración: 20 horas \nFechas clases presenciales (20 horas): \n\n2025-01-29 (Miércoles)\n2025-01-30 (Jueves)
URL:https://previsonor.es/evento/prevencion-de-riesgos-laborales-para-demolicion-y-rehabilitacion-20-h-en-previsonor-vigo-de-2025-01-29-a-2025-01-31/
END:VEVENT
BEGIN:VEVENT
DTSTART;TZID=UTC:20250129T080000
DTEND;TZID=UTC:20250129T140000
DTSTAMP:20260421T221205
CREATED:20250114T150043Z
LAST-MODIFIED:20250228T230010Z
UID:3763-1738137600-1738159200@previsonor.es
SUMMARY:CURSO ESPECIFICO PARA INSTALACIONES\, REPARACIONES\, MONTAJES\, ESTRUCTURAS METALICAS\, CERRAJERIA Y CARPINTERIA METALICA en PREVISONOR VIGO  de 2025-01-29 a 2025-01-29
DESCRIPTION:Modalidad: Presencial\n        Fecha de inicio: 2025-01-29\n        Fecha de finalización: 2025-01-29Duración: 6 horas
URL:https://previsonor.es/evento/curso-especifico-para-instalaciones-reparaciones-montajes-estructuras-metalicas-cerrajeria-y-carpinteria-metalica-en-previsonor-vigo-de-2025-01-29-a-2025-01-29/
END:VEVENT
BEGIN:VEVENT
DTSTART;TZID=UTC:20250129T080000
DTEND;TZID=UTC:20250129T140000
DTSTAMP:20260421T221205
CREATED:20241218T150046Z
LAST-MODIFIED:20250228T230006Z
UID:3713-1738137600-1738159200@previsonor.es
SUMMARY:PRL PARA  TRABAJOS DE CONSTRUCCION\, REPARACION Y MANTENIMIENTO NAVAL EN ASTILLEROS Y MUELLES 20P en PREVISONOR VIGO  de 2025-01-28 a 2025-01-30
DESCRIPTION:Modalidad: Presencial\n        Fecha de inicio: 2025-01-28\n        Fecha de finalización: 2025-01-30Duración: 20 horas \nFechas clases presenciales (20 horas): \n\n2025-01-28 (Martes)\n2025-01-29 (Miércoles)
URL:https://previsonor.es/evento/prl-para-trabajos-de-construccion-reparacion-y-mantenimiento-naval-en-astilleros-y-muelles-20p-en-previsonor-vigo-de-2025-01-28-a-2025-01-30-2/
END:VEVENT
BEGIN:VEVENT
DTSTART;TZID=UTC:20250111T070000
DTEND;TZID=UTC:20250111T140000
DTSTAMP:20260421T221205
CREATED:20250107T120042Z
LAST-MODIFIED:20250211T030018Z
UID:3727-1736578800-1736604000@previsonor.es
SUMMARY:NIVEL BASICO DE PREVENCION EN CONSTRUCCION 20P+40O en INSTALACIONES FUNDIVISA y Aula Formanor de 2025-01-11 a 2025-02-10
DESCRIPTION:Modalidad: Presencial\n        Fecha de inicio: 2025-01-11\n        Fecha de finalización: 2025-02-10Duración: 60 horas \nFechas clases presenciales (20 horas): \n\n2025-01-11 (Sábado)\n2025-01-18 (Sábado)\n2025-01-25 (Sábado)\n2025-02-01 (Sábado)\n2025-02-08 (Sábado)\n\n \n\n\n            Tutorías y teleformación (40 horas): \n\nDe lunes a viernes de 9 a 12
URL:https://previsonor.es/evento/nivel-basico-de-prevencion-en-construccion-20p40o-en-instalaciones-fundivisa-y-aula-formanor-de-2025-01-11-a-2025-02-10/
END:VEVENT
BEGIN:VEVENT
DTSTART;TZID=UTC:20241010T090000
DTEND;TZID=UTC:20241010T130000
DTSTAMP:20260421T221205
CREATED:20240927T120052Z
LAST-MODIFIED:20241110T030012Z
UID:3428-1728550800-1728565200@previsonor.es
SUMMARY:CURSO PRIMEROS AUXILIOS 4P en PREVISONOR VIGO  de 2024-10-10 a 2024-10-10
DESCRIPTION:Modalidad: Presencial\n        Fecha de inicio: 2024-10-10\n        Fecha de finalización: 2024-10-10Duración: 4 horas
URL:https://previsonor.es/evento/curso-primeros-auxilios-4p-en-previsonor-vigo-de-2024-10-10-a-2024-10-10/
END:VEVENT
BEGIN:VEVENT
DTSTART;TZID=UTC:20241010T080000
DTEND;TZID=UTC:20241010T150000
DTSTAMP:20260421T221205
CREATED:20241002T140053Z
LAST-MODIFIED:20241110T030013Z
UID:3437-1728547200-1728572400@previsonor.es
SUMMARY:PREVENCION DE RIESGOS LABORALES PARA ALBAÑILERIA (20 H) en PREVISONOR VIGO  de 2024-10-09 a 2024-10-11
DESCRIPTION:Modalidad: Presencial\n        Fecha de inicio: 2024-10-09\n        Fecha de finalización: 2024-10-11Duración: 20 horas \nFechas clases presenciales (20 horas): \n\n2024-10-09 (Miércoles)\n2024-10-10 (Jueves)
URL:https://previsonor.es/evento/prevencion-de-riesgos-laborales-para-albanileria-20-h-en-previsonor-vigo-de-2024-10-09-a-2024-10-11-2/
END:VEVENT
BEGIN:VEVENT
DTSTART;TZID=UTC:20240831T080000
DTEND;TZID=UTC:20240831T140000
DTSTAMP:20260421T221205
CREATED:20240813T110049Z
LAST-MODIFIED:20240930T230009Z
UID:3265-1725091200-1725112800@previsonor.es
SUMMARY:PREVENCION DE RIESGOS LABORALES PARA ALBAÑILERIA (20 H) en PREVISONOR VIGO  de 2024-08-17 a 2024-08-31
DESCRIPTION:Modalidad: Presencial\n        Fecha de inicio: 2024-08-17\n        Fecha de finalización: 2024-08-31Duración: 20 horas \nFechas clases presenciales (20 horas): \n\n2024-08-17 (Sábado)\n2024-08-24 (Sábado)
URL:https://previsonor.es/evento/prevencion-de-riesgos-laborales-para-albanileria-20-h-en-previsonor-vigo-de-2024-08-17-a-2024-08-31-3/
END:VEVENT
BEGIN:VEVENT
DTSTART;TZID=UTC:20240531T150000
DTEND;TZID=UTC:20240531T210000
DTSTAMP:20260421T221205
CREATED:20240514T090103Z
LAST-MODIFIED:20240630T230013Z
UID:2892-1717167600-1717189200@previsonor.es
SUMMARY:CURSO ESPECIFICO PARA ELECTRICIDAD en PREVISONOR LUGO de 2024-05-31 a 2024-05-31
DESCRIPTION:Modalidad: Presencial\n        Fecha de inicio: 2024-05-31\n        Fecha de finalización: 2024-05-31Duración: 6 horas
URL:https://previsonor.es/evento/curso-especifico-para-electricidad-en-previsonor-lugo-de-2024-05-31-a-2024-05-31/
END:VEVENT
BEGIN:VEVENT
DTSTART;TZID=UTC:20240531T150000
DTEND;TZID=UTC:20240531T210000
DTSTAMP:20260421T221205
CREATED:20240408T070048Z
LAST-MODIFIED:20240630T230006Z
UID:2733-1717167600-1717189200@previsonor.es
SUMMARY:CURSO ESPECIFICO PARA ALBAÑILERIA en PREVISONOR LUGO de 2024-05-31 a 2024-05-31
DESCRIPTION:Modalidad: Presencial\n        Fecha de inicio: 2024-05-31\n        Fecha de finalización: 2024-05-31Duración: 6 horas
URL:https://previsonor.es/evento/curso-especifico-para-albanileria-en-previsonor-lugo-de-2024-05-31-a-2024-05-31/
END:VEVENT
BEGIN:VEVENT
DTSTART;TZID=UTC:20240531T150000
DTEND;TZID=UTC:20240531T200000
DTSTAMP:20260421T221205
CREATED:20240513T080054Z
LAST-MODIFIED:20240630T230011Z
UID:2868-1717167600-1717185600@previsonor.es
SUMMARY:PREVENCION DE RIESGOS LABORALES PARA INSTALADOR DE VENTANAS Y ACRISTALAMIENTOS (20H) en PREVISONOR Ourense de 2024-05-31 a 2024-06-21
DESCRIPTION:Modalidad: Presencial\n        Fecha de inicio: 2024-05-31\n        Fecha de finalización: 2024-06-21Duración: 20 horas \nFechas clases presenciales (20 horas): \n\n2024-05-31 (Viernes)\n2024-06-07 (Viernes)\n2024-06-14 (Viernes)
URL:https://previsonor.es/evento/prevencion-de-riesgos-laborales-para-instalador-de-ventanas-y-acristalamientos-20h-en-previsonor-ourense-de-2024-05-31-a-2024-06-21/
END:VEVENT
BEGIN:VEVENT
DTSTART;TZID=UTC:20240531T140000
DTEND;TZID=UTC:20240531T200000
DTSTAMP:20260421T221205
CREATED:20240510T110113Z
LAST-MODIFIED:20240630T230011Z
UID:2862-1717164000-1717185600@previsonor.es
SUMMARY:CURSO ESPECIFICO PARA INSTALACIONES\, REPARACIONES\, MONTAJES\, ESTRUCTURAS METALICAS\, CERRAJERIA Y CARPINTERIA METALICA en PREVISONOR VIGO  de 2024-05-31 a 2024-05-31
DESCRIPTION:Modalidad: Presencial\n        Fecha de inicio: 2024-05-31\n        Fecha de finalización: 2024-05-31Duración: 6 horas
URL:https://previsonor.es/evento/curso-especifico-para-instalaciones-reparaciones-montajes-estructuras-metalicas-cerrajeria-y-carpinteria-metalica-en-previsonor-vigo-de-2024-05-31-a-2024-05-31/
END:VEVENT
BEGIN:VEVENT
DTSTART;TZID=UTC:20240531T140000
DTEND;TZID=UTC:20240531T200000
DTSTAMP:20260421T221205
CREATED:20240507T150056Z
LAST-MODIFIED:20240630T230008Z
UID:2840-1717164000-1717185600@previsonor.es
SUMMARY:PRL PARA INSTALACIONES\, REPARACIONES\, MONTAJES\, ESTRUCTURAS METALICAS\, CERRAJERIA Y CARPINTERIA METALICA en PREVISONOR VIGO  de 2024-05-29 a 2024-05-31
DESCRIPTION:Modalidad: Presencial\n        Fecha de inicio: 2024-05-29\n        Fecha de finalización: 2024-05-31Duración: 20 horas \nFechas clases presenciales (20 horas): \n\n2024-05-29 (Miércoles)\n2024-05-30 (Jueves)
URL:https://previsonor.es/evento/prl-para-instalaciones-reparaciones-montajes-estructuras-metalicas-cerrajeria-y-carpinteria-metalica-en-previsonor-vigo-de-2024-05-29-a-2024-05-31-3/
END:VEVENT
BEGIN:VEVENT
DTSTART;TZID=UTC:20240515T140000
DTEND;TZID=UTC:20240515T200000
DTSTAMP:20260421T221205
CREATED:20240502T110101Z
LAST-MODIFIED:20240615T110009Z
UID:2827-1715781600-1715803200@previsonor.es
SUMMARY:PREVENCION DE RIESGOS LABORALES PARA PINTURA (20 H) en PREVISONOR VIGO  de 2024-05-08 a 2024-05-15
DESCRIPTION:Modalidad: Presencial\n        Fecha de inicio: 2024-05-08\n        Fecha de finalización: 2024-05-15Duración: 20 horas \nFechas clases presenciales (20 horas): \n\n2024-05-08 (Miércoles)\n2024-05-09 (Jueves)
URL:https://previsonor.es/evento/curso-formacion-pintura-20p-en-previsonor-vigo-de-2024-05-08-a-2024-05-15-3/
END:VEVENT
BEGIN:VEVENT
DTSTART;TZID=UTC:20240515T140000
DTEND;TZID=UTC:20240515T200000
DTSTAMP:20260421T221205
CREATED:20240502T110101Z
LAST-MODIFIED:20240615T110010Z
UID:2828-1715781600-1715803200@previsonor.es
SUMMARY:CURSO ESPECIFICO PARA PINTURA en PREVISONOR VIGO  de 2024-05-15 a 2024-05-15
DESCRIPTION:Modalidad: Presencial\n        Fecha de inicio: 2024-05-15\n        Fecha de finalización: 2024-05-15Duración: 6 horas
URL:https://previsonor.es/evento/curso-especifico-para-pintura-en-previsonor-vigo-de-2024-05-15-a-2024-05-15/
END:VEVENT
BEGIN:VEVENT
DTSTART;TZID=UTC:20240426T150000
DTEND;TZID=UTC:20240426T200000
DTSTAMP:20260421T221205
CREATED:20240419T130105Z
LAST-MODIFIED:20240525T090022Z
UID:2789-1714143600-1714161600@previsonor.es
SUMMARY:PREVENCION DE RIESGOS LABORALES PARA INSTALADOR DE VENTANAS Y ACRISTALAMIENTOS (20H) en PREVISONOR Ourense de 2024-04-26 a 2024-05-24
DESCRIPTION:Modalidad: Presencial\n        Fecha de inicio: 2024-04-26\n        Fecha de finalización: 2024-05-24Duración: 20 horas \nFechas clases presenciales (20 horas): \n\n2024-04-26 (Viernes)\n2024-05-03 (Viernes)\n2024-05-10 (Viernes)\n2024-05-17 (Viernes)
URL:https://previsonor.es/evento/prevencion-de-riesgos-laborales-para-instalador-de-ventanas-y-acristalamientos-20h-en-previsonor-ourense-de-2024-04-26-a-2024-05-24/
END:VEVENT
BEGIN:VEVENT
DTSTART;TZID=UTC:20240426T150000
DTEND;TZID=UTC:20240426T200000
DTSTAMP:20260421T221205
CREATED:20240417T080055Z
LAST-MODIFIED:20240525T090018Z
UID:2773-1714143600-1714161600@previsonor.es
SUMMARY:NIVEL BASICO DE PREVENCION EN CONSTRUCCION 20P+40O en PREVISONOR Ourense y Aula Formanor de 2024-04-26 a 2024-05-27
DESCRIPTION:Modalidad: Presencial\n        Fecha de inicio: 2024-04-26\n        Fecha de finalización: 2024-05-24Duración: 60 horas \nFechas clases presenciales (20 horas): \n\n2024-04-26 (Viernes)\n2024-05-03 (Viernes)\n2024-05-10 (Viernes)\n2024-05-17 (Viernes)\n\n \n\n\n            Tutorías y teleformación (40 horas): \n\nDías 29 y 30 de abril y 02\, 06\, 07\, 08\, 09\, 13\, 14\, 15 de mayo de 09: a 12:00. Los días 16\, 20\, 21\, 22 y 27 de mayo de 09:00 a 11:30
URL:https://previsonor.es/evento/nivel-basico-de-prevencion-en-construccion-20p40o-en-previsonor-ourense-y-aula-formanor-de-2024-04-26-a-2024-05-27/
END:VEVENT
BEGIN:VEVENT
DTSTART;TZID=UTC:20240426T150000
DTEND;TZID=UTC:20240426T200000
DTSTAMP:20260421T221205
CREATED:20240405T120045Z
LAST-MODIFIED:20240525T090009Z
UID:2707-1714143600-1714161600@previsonor.es
SUMMARY:PRL PARA DELEGADOS/AS DE PREVENCION EN EMPRESAS DE CONSTRUCCION en PREVISONOR SANTIAGO y GMM de 2024-04-12 a 2024-05-03
DESCRIPTION:Modalidad: Presencial\n        Fecha de inicio: 2024-04-12\n        Fecha de finalización: 2024-05-03Duración: 70 horas \nFechas clases presenciales (20 horas): \n\n2024-04-12 (Viernes)\n2024-04-19 (Viernes)\n2024-04-26 (Viernes)\n\n \n\n\n            Tutorías y teleformación (50 horas): \n\n15-16-17-18-22-23-24-25-29-30 Abril en horario de 15:00 a 20:00
URL:https://previsonor.es/evento/prl-para-delegados-as-de-prevencion-en-empresas-de-construccion-en-previsonor-santiago-y-gmm-de-2024-04-12-a-2024-05-03-3/
END:VEVENT
BEGIN:VEVENT
DTSTART;TZID=UTC:20240426T113000
DTEND;TZID=UTC:20240426T163000
DTSTAMP:20260421T221205
CREATED:20240405T090145Z
LAST-MODIFIED:20240525T090008Z
UID:2699-1714131000-1714149000@previsonor.es
SUMMARY:PREVENCION DE RIESGOS LABORALES PARA INSTALACION DE CARPINTERIA DE MADERA Y MUEBLE (20H) en AULA GRANADA de 2024-04-12 a 2024-05-03
DESCRIPTION:Modalidad: Presencial\n        Fecha de inicio: 2024-04-12\n        Fecha de finalización: 2024-05-03Duración: 20 horas \nFechas clases presenciales (20 horas): \n\n2024-04-12 (Viernes)\n2024-04-19 (Viernes)\n2024-04-26 (Viernes)
URL:https://previsonor.es/evento/prevencion-de-riesgos-laborales-para-instalacion-de-carpinteria-de-madera-y-mueble-20h-en-aula-granada-de-2024-04-12-a-2024-05-03-3/
END:VEVENT
BEGIN:VEVENT
DTSTART;TZID=UTC:20240426T080000
DTEND;TZID=UTC:20240426T130000
DTSTAMP:20260421T221205
CREATED:20240409T130053Z
LAST-MODIFIED:20240525T090016Z
UID:2752-1714118400-1714136400@previsonor.es
SUMMARY:NIVEL BASICO DE PREVENCION 20P+40O en FORMANOR VIGO y Aula Formanor de 2024-04-19 a 2024-05-13
DESCRIPTION:Modalidad: Presencial\n        Fecha de inicio: 2024-04-19\n        Fecha de finalización: 2024-05-10Duración: 60 horas \nFechas clases presenciales (20 horas): \n\n2024-04-19 (Viernes)\n2024-04-26 (Viernes)\n2024-05-03 (Viernes)\n\n \n\n\n            Tutorías y teleformación (40 horas): \n\nLunes a Viernes de 09:00 a 11:45
URL:https://previsonor.es/evento/nivel-basico-de-prevencion-20p40o-en-formanor-vigo-y-aula-formanor-de-2024-04-19-a-2024-05-13-2/
END:VEVENT
BEGIN:VEVENT
DTSTART;TZID=UTC:20240426T000000
DTEND;TZID=UTC:20240527T000000
DTSTAMP:20260421T221205
CREATED:20240417T080058Z
LAST-MODIFIED:20240525T090020Z
UID:2777-1714089600-1716768000@previsonor.es
SUMMARY:NIVEL BASICO DE PREVENCION EN CONSTRUCCION 20P+40O en PREVISONOR Ourense y Aula Formanor de 2024-04-26 a 2024-05-27
DESCRIPTION:Modalidad: Online\n        Fecha de inicio: 2024-04-26\n        Fecha de finalización: 2024-05-24Duración: 60 horas \nFechas clases presenciales (20 horas): \n\n2024-04-26 (Viernes)\n2024-05-03 (Viernes)\n2024-05-10 (Viernes)\n2024-05-17 (Viernes)\n\n \n\n\n            Tutorías y teleformación (40 horas): \n\nDías 29 y 30 de abril y 02\, 06\, 07\, 08\, 09\, 13\, 14\, 15 de mayo de 09: a 12:00. Los días 16\, 20\, 21\, 22 y 27 de mayo de 09:00 a 11:30
URL:https://previsonor.es/evento/nivel-basico-de-prevencion-en-construccion-20p40o-en-previsonor-ourense-y-aula-formanor-de-2024-04-26-a-2024-05-27-5/
END:VEVENT
BEGIN:VEVENT
DTSTART;TZID=UTC:20240103T150000
DTEND;TZID=UTC:20240103T170000
DTSTAMP:20260421T221205
CREATED:20231226T080008Z
LAST-MODIFIED:20240203T070004Z
UID:2395-1704294000-1704301200@previsonor.es
SUMMARY:AULA PERMANENTE en Previsonor\, S.L. CORUÑA de 2024-01-03 a 2024-01-03
DESCRIPTION:Modalidad: Presencial\n        Fecha de inicio: 2024-01-03\n        Fecha de finalización: 2024-01-03Duración: 8 horas
URL:https://previsonor.es/evento/aula-permanente-en-previsonor-s-l-coruna-de-2024-01-03-a-2024-01-03-2/
END:VEVENT
END:VCALENDAR