BEGIN:VCALENDAR
VERSION:2.0
PRODID:-//Previsonor - ECPv6.15.15//NONSGML v1.0//EN
CALSCALE:GREGORIAN
METHOD:PUBLISH
X-WR-CALNAME:Previsonor
X-ORIGINAL-URL:https://previsonor.es
X-WR-CALDESC:Eventos para Previsonor
REFRESH-INTERVAL;VALUE=DURATION:PT1H
X-Robots-Tag:noindex
X-PUBLISHED-TTL:PT1H
BEGIN:VTIMEZONE
TZID:UTC
BEGIN:STANDARD
TZOFFSETFROM:+0000
TZOFFSETTO:+0000
TZNAME:UTC
DTSTART:20250101T000000
END:STANDARD
END:VTIMEZONE
BEGIN:VEVENT
DTSTART;TZID=UTC:20260417T000000
DTEND;TZID=UTC:20260508T000000
DTSTAMP:20260421T123118
CREATED:20260325T100103Z
LAST-MODIFIED:20260421T120036Z
UID:6106-1776384000-1778198400@previsonor.es
SUMMARY:NIVEL BASICO DE PREVENCION EN CONSTRUCCION 20P+40O en PREVISONOR VIGO  y Aula Formanor de 2026-04-17 a 2026-05-08
DESCRIPTION:Modalidad: Online\n        Fecha de inicio: 2026-04-17\n        Fecha de finalización: 2026-05-08Duración: 60 horas \nFechas clases presenciales (20 horas): \n\n2026-04-17 (Viernes)\n2026-04-24 (Viernes)\n2026-05-01 (Viernes)\n\n \n\n\n            Tutorías y teleformación (40 horas):
URL:https://previsonor.es/evento/nivel-basico-de-prevencion-en-construccion-20p40o-en-previsonor-vigo-y-aula-formanor-de-2026-04-17-a-2026-05-08-4/
END:VEVENT
BEGIN:VEVENT
DTSTART;TZID=UTC:20260423T100000
DTEND;TZID=UTC:20260423T140000
DTSTAMP:20260421T123118
CREATED:20260416T130058Z
LAST-MODIFIED:20260421T120100Z
UID:6233-1776938400-1776952800@previsonor.es
SUMMARY:RECECLAJE C.29-OPERADOR DE PLATAFORMA ELEVADORA 4H en VELAND AISLAMIENTOS REFRACTARIOS S.L de 2026-04-23 a 2026-04-23
DESCRIPTION:Modalidad: Presencial\n        Fecha de inicio: 2026-04-23\n        Fecha de finalización: 2026-04-23Duración: 4 horas
URL:https://previsonor.es/evento/receclaje-c-29-operador-de-plataforma-elevadora-4h-en-veland-aislamientos-refractarios-s-l-de-2026-04-23-a-2026-04-23/
END:VEVENT
BEGIN:VEVENT
DTSTART;TZID=UTC:20260423T150000
DTEND;TZID=UTC:20260423T220000
DTSTAMP:20260421T123118
CREATED:20260417T080102Z
LAST-MODIFIED:20260421T120100Z
UID:6235-1776956400-1776981600@previsonor.es
SUMMARY:PREVENCION DE RIESGOS LABORALES PARA ALBAÑILERIA (20 H) en PREVISONOR Ourense de 2026-04-23 a 2026-04-25
DESCRIPTION:Modalidad: Presencial\n        Fecha de inicio: 2026-04-23\n        Fecha de finalización: 2026-04-25Duración: 20 horas \nFechas clases presenciales (20 horas): \n\n2026-04-23 (Jueves)\n2026-04-24 (Viernes)
URL:https://previsonor.es/evento/prevencion-de-riesgos-laborales-para-albanileria-20-h-en-previsonor-ourense-de-2026-04-23-a-2026-04-25/
END:VEVENT
BEGIN:VEVENT
DTSTART;TZID=UTC:20260424T080000
DTEND;TZID=UTC:20260424T150000
DTSTAMP:20260421T123118
CREATED:20260325T100102Z
LAST-MODIFIED:20260421T120035Z
UID:6104-1777017600-1777042800@previsonor.es
SUMMARY:NIVEL BASICO DE PREVENCION EN CONSTRUCCION 20P+40O en PREVISONOR VIGO  y Aula Formanor de 2026-04-17 a 2026-05-08
DESCRIPTION:Modalidad: Presencial\n        Fecha de inicio: 2026-04-17\n        Fecha de finalización: 2026-05-08Duración: 60 horas \nFechas clases presenciales (20 horas): \n\n2026-04-17 (Viernes)\n2026-04-24 (Viernes)\n2026-05-01 (Viernes)\n\n \n\n\n            Tutorías y teleformación (40 horas):
URL:https://previsonor.es/evento/nivel-basico-de-prevencion-en-construccion-20p40o-en-previsonor-vigo-y-aula-formanor-de-2026-04-17-a-2026-05-08-2/
END:VEVENT
BEGIN:VEVENT
DTSTART;TZID=UTC:20260424T150000
DTEND;TZID=UTC:20260424T220000
DTSTAMP:20260421T123118
CREATED:20260417T080102Z
LAST-MODIFIED:20260421T120101Z
UID:6236-1777042800-1777068000@previsonor.es
SUMMARY:PREVENCION DE RIESGOS LABORALES PARA ALBAÑILERIA (20 H) en PREVISONOR Ourense de 2026-04-23 a 2026-04-25
DESCRIPTION:Modalidad: Presencial\n        Fecha de inicio: 2026-04-23\n        Fecha de finalización: 2026-04-25Duración: 20 horas \nFechas clases presenciales (20 horas): \n\n2026-04-23 (Jueves)\n2026-04-24 (Viernes)
URL:https://previsonor.es/evento/prevencion-de-riesgos-laborales-para-albanileria-20-h-en-previsonor-ourense-de-2026-04-23-a-2026-04-25-2/
END:VEVENT
BEGIN:VEVENT
DTSTART;TZID=UTC:20260425T080000
DTEND;TZID=UTC:20260425T140000
DTSTAMP:20260421T123118
CREATED:20260417T080103Z
LAST-MODIFIED:20260421T120101Z
UID:6237-1777104000-1777125600@previsonor.es
SUMMARY:PREVENCION DE RIESGOS LABORALES PARA ALBAÑILERIA (20 H) en PREVISONOR Ourense de 2026-04-23 a 2026-04-25
DESCRIPTION:Modalidad: Presencial\n        Fecha de inicio: 2026-04-23\n        Fecha de finalización: 2026-04-25Duración: 20 horas \nFechas clases presenciales (20 horas): \n\n2026-04-23 (Jueves)\n2026-04-24 (Viernes)
URL:https://previsonor.es/evento/prevencion-de-riesgos-laborales-para-albanileria-20-h-en-previsonor-ourense-de-2026-04-23-a-2026-04-25-3/
END:VEVENT
BEGIN:VEVENT
DTSTART;TZID=UTC:20260427T080000
DTEND;TZID=UTC:20260427T150000
DTSTAMP:20260421T123118
CREATED:20260325T100110Z
LAST-MODIFIED:20260421T120040Z
UID:6119-1777276800-1777302000@previsonor.es
SUMMARY:PREVENCION DE RIESGOS LABORALES PARA MONTADOR DE ESCAYOLA\, PLACAS DE YESO LAMINADO Y ASIMILADOS 20H en PREVISONOR VIGO  de 2026-04-27 a 2026-04-29
DESCRIPTION:Modalidad: Presencial\n        Fecha de inicio: 2026-04-27\n        Fecha de finalización: 2026-04-29Duración: 20 horas \nFechas clases presenciales (20 horas): \n\n2026-04-27 (Lunes)\n2026-04-28 (Martes)
URL:https://previsonor.es/evento/prevencion-de-riesgos-laborales-para-montador-de-escayola-placas-de-yeso-laminado-y-asimilados-20h-en-previsonor-vigo-de-2026-04-27-a-2026-04-29/
END:VEVENT
BEGIN:VEVENT
DTSTART;TZID=UTC:20260427T080000
DTEND;TZID=UTC:20260427T150000
DTSTAMP:20260421T123118
CREATED:20260420T180057Z
LAST-MODIFIED:20260421T120103Z
UID:6243-1777276800-1777302000@previsonor.es
SUMMARY:PREVENCION DE RIESGOS LABORALES PARA ENCOFRADOS (20 H) en PREVISONOR VIGO  de 2026-04-27 a 2026-04-29
DESCRIPTION:Modalidad: Presencial\n        Fecha de inicio: 2026-04-27\n        Fecha de finalización: 2026-04-29Duración: 20 horas \nFechas clases presenciales (20 horas): \n\n2026-04-27 (Lunes)\n2026-04-28 (Martes)
URL:https://previsonor.es/evento/prevencion-de-riesgos-laborales-para-encofrados-20-h-en-previsonor-vigo-de-2026-04-27-a-2026-04-29/
END:VEVENT
BEGIN:VEVENT
DTSTART;TZID=UTC:20260428T080000
DTEND;TZID=UTC:20260428T150000
DTSTAMP:20260421T123118
CREATED:20260325T100110Z
LAST-MODIFIED:20260421T120040Z
UID:6120-1777363200-1777388400@previsonor.es
SUMMARY:PREVENCION DE RIESGOS LABORALES PARA MONTADOR DE ESCAYOLA\, PLACAS DE YESO LAMINADO Y ASIMILADOS 20H en PREVISONOR VIGO  de 2026-04-27 a 2026-04-29
DESCRIPTION:Modalidad: Presencial\n        Fecha de inicio: 2026-04-27\n        Fecha de finalización: 2026-04-29Duración: 20 horas \nFechas clases presenciales (20 horas): \n\n2026-04-27 (Lunes)\n2026-04-28 (Martes)
URL:https://previsonor.es/evento/prevencion-de-riesgos-laborales-para-montador-de-escayola-placas-de-yeso-laminado-y-asimilados-20h-en-previsonor-vigo-de-2026-04-27-a-2026-04-29-2/
END:VEVENT
BEGIN:VEVENT
DTSTART;TZID=UTC:20260428T080000
DTEND;TZID=UTC:20260428T150000
DTSTAMP:20260421T123118
CREATED:20260420T180057Z
LAST-MODIFIED:20260421T120103Z
UID:6244-1777363200-1777388400@previsonor.es
SUMMARY:PREVENCION DE RIESGOS LABORALES PARA ENCOFRADOS (20 H) en PREVISONOR VIGO  de 2026-04-27 a 2026-04-29
DESCRIPTION:Modalidad: Presencial\n        Fecha de inicio: 2026-04-27\n        Fecha de finalización: 2026-04-29Duración: 20 horas \nFechas clases presenciales (20 horas): \n\n2026-04-27 (Lunes)\n2026-04-28 (Martes)
URL:https://previsonor.es/evento/prevencion-de-riesgos-laborales-para-encofrados-20-h-en-previsonor-vigo-de-2026-04-27-a-2026-04-29-2/
END:VEVENT
BEGIN:VEVENT
DTSTART;TZID=UTC:20260429T080000
DTEND;TZID=UTC:20260429T140000
DTSTAMP:20260421T123118
CREATED:20260325T100111Z
LAST-MODIFIED:20260421T120041Z
UID:6122-1777449600-1777471200@previsonor.es
SUMMARY:CURSO ESPECIFICO PARA MONTADOR DE ESCAYOLA\, PLACAS DE YESO LAMINAO Y ASIMILADOS 6H en PREVISONOR VIGO  de 2026-04-29 a 2026-04-29
DESCRIPTION:Modalidad: Presencial\n        Fecha de inicio: 2026-04-29\n        Fecha de finalización: 2026-04-29Duración: 6 horas
URL:https://previsonor.es/evento/curso-especifico-para-montador-de-escayola-placas-de-yeso-laminao-y-asimilados-6h-en-previsonor-vigo-de-2026-04-29-a-2026-04-29/
END:VEVENT
BEGIN:VEVENT
DTSTART;TZID=UTC:20260429T080000
DTEND;TZID=UTC:20260429T140000
DTSTAMP:20260421T123118
CREATED:20260325T100111Z
LAST-MODIFIED:20260421T120041Z
UID:6121-1777449600-1777471200@previsonor.es
SUMMARY:PREVENCION DE RIESGOS LABORALES PARA MONTADOR DE ESCAYOLA\, PLACAS DE YESO LAMINADO Y ASIMILADOS 20H en PREVISONOR VIGO  de 2026-04-27 a 2026-04-29
DESCRIPTION:Modalidad: Presencial\n        Fecha de inicio: 2026-04-27\n        Fecha de finalización: 2026-04-29Duración: 20 horas \nFechas clases presenciales (20 horas): \n\n2026-04-27 (Lunes)\n2026-04-28 (Martes)
URL:https://previsonor.es/evento/prevencion-de-riesgos-laborales-para-montador-de-escayola-placas-de-yeso-laminado-y-asimilados-20h-en-previsonor-vigo-de-2026-04-27-a-2026-04-29-3/
END:VEVENT
BEGIN:VEVENT
DTSTART;TZID=UTC:20260429T080000
DTEND;TZID=UTC:20260429T140000
DTSTAMP:20260421T123118
CREATED:20260420T180058Z
LAST-MODIFIED:20260421T120105Z
UID:6245-1777449600-1777471200@previsonor.es
SUMMARY:PREVENCION DE RIESGOS LABORALES PARA ENCOFRADOS (20 H) en PREVISONOR VIGO  de 2026-04-27 a 2026-04-29
DESCRIPTION:Modalidad: Presencial\n        Fecha de inicio: 2026-04-27\n        Fecha de finalización: 2026-04-29Duración: 20 horas \nFechas clases presenciales (20 horas): \n\n2026-04-27 (Lunes)\n2026-04-28 (Martes)
URL:https://previsonor.es/evento/prevencion-de-riesgos-laborales-para-encofrados-20-h-en-previsonor-vigo-de-2026-04-27-a-2026-04-29-3/
END:VEVENT
BEGIN:VEVENT
DTSTART;TZID=UTC:20260504T080000
DTEND;TZID=UTC:20260504T140000
DTSTAMP:20260421T123118
CREATED:20260413T100053Z
LAST-MODIFIED:20260421T120052Z
UID:6199-1777881600-1777903200@previsonor.es
SUMMARY:PREVENCION DE RIESGOS LABORALES PARA TRABAJOS EN TALLERES DE REPACION DE VEHÍCULOS 20H en PREVISONOR Ourense de 2026-05-04 a 2026-05-25
DESCRIPTION:Modalidad: Presencial\n        Fecha de inicio: 2026-05-04\n        Fecha de finalización: 2026-05-25Duración: 20 horas \nFechas clases presenciales (20 horas): \n\n2026-05-04 (Lunes)\n2026-05-11 (Lunes)\n2026-05-18 (Lunes)
URL:https://previsonor.es/evento/prevencion-de-riesgos-laborales-para-trabajos-en-talleres-de-repacion-de-vehiculos-20h-en-previsonor-ourense-de-2026-05-04-a-2026-05-25/
END:VEVENT
BEGIN:VEVENT
DTSTART;TZID=UTC:20260507T000000
DTEND;TZID=UTC:20260529T000000
DTSTAMP:20260421T123118
CREATED:20260414T070056Z
LAST-MODIFIED:20260421T120058Z
UID:6218-1778112000-1780012800@previsonor.es
SUMMARY:NIVEL BASICO DE PREVENCION EN CONSTRUCCION 20P+40O en PREVISONOR Ourense y Aula Formanor de 2026-05-07 a 2026-05-29
DESCRIPTION:Modalidad: Online\n        Fecha de inicio: 2026-05-07\n        Fecha de finalización: 2026-05-29Duración: 60 horas \nFechas clases presenciales (20 horas): \n\n2026-05-07 (Jueves)\n2026-05-08 (Viernes)\n2026-05-14 (Jueves)\n2026-05-15 (Viernes)\n2026-05-21 (Jueves)\n2026-05-22 (Viernes)\n2026-05-28 (Jueves)\n\n \n\n\n            Tutorías y teleformación (40 horas): \n\nDe Lunes a viernes de 9 a 12
URL:https://previsonor.es/evento/nivel-basico-de-prevencion-en-construccion-20p40o-en-previsonor-ourense-y-aula-formanor-de-2026-05-07-a-2026-05-29-4/
END:VEVENT
BEGIN:VEVENT
DTSTART;TZID=UTC:20260507T150000
DTEND;TZID=UTC:20260507T220000
DTSTAMP:20260421T123118
CREATED:20260414T070055Z
LAST-MODIFIED:20260421T120056Z
UID:6215-1778166000-1778191200@previsonor.es
SUMMARY:NIVEL BASICO DE PREVENCION EN CONSTRUCCION 20P+40O en PREVISONOR Ourense y Aula Formanor de 2026-05-07 a 2026-05-29
DESCRIPTION:Modalidad: Presencial\n        Fecha de inicio: 2026-05-07\n        Fecha de finalización: 2026-05-29Duración: 60 horas \nFechas clases presenciales (20 horas): \n\n2026-05-07 (Jueves)\n2026-05-08 (Viernes)\n2026-05-14 (Jueves)\n2026-05-15 (Viernes)\n2026-05-21 (Jueves)\n2026-05-22 (Viernes)\n2026-05-28 (Jueves)\n\n \n\n\n            Tutorías y teleformación (40 horas): \n\nDe Lunes a viernes de 9 a 12
URL:https://previsonor.es/evento/nivel-basico-de-prevencion-en-construccion-20p40o-en-previsonor-ourense-y-aula-formanor-de-2026-05-07-a-2026-05-29/
END:VEVENT
BEGIN:VEVENT
DTSTART;TZID=UTC:20260508T080000
DTEND;TZID=UTC:20260508T140000
DTSTAMP:20260421T123118
CREATED:20260325T100103Z
LAST-MODIFIED:20260421T120036Z
UID:6105-1778227200-1778248800@previsonor.es
SUMMARY:NIVEL BASICO DE PREVENCION EN CONSTRUCCION 20P+40O en PREVISONOR VIGO  y Aula Formanor de 2026-04-17 a 2026-05-08
DESCRIPTION:Modalidad: Presencial\n        Fecha de inicio: 2026-04-17\n        Fecha de finalización: 2026-05-08Duración: 60 horas \nFechas clases presenciales (20 horas): \n\n2026-04-17 (Viernes)\n2026-04-24 (Viernes)\n2026-05-01 (Viernes)\n\n \n\n\n            Tutorías y teleformación (40 horas):
URL:https://previsonor.es/evento/nivel-basico-de-prevencion-en-construccion-20p40o-en-previsonor-vigo-y-aula-formanor-de-2026-04-17-a-2026-05-08-3/
END:VEVENT
BEGIN:VEVENT
DTSTART;TZID=UTC:20260508T100000
DTEND;TZID=UTC:20260508T140000
DTSTAMP:20260421T123118
CREATED:20260417T110104Z
LAST-MODIFIED:20260421T120102Z
UID:6241-1778234400-1778248800@previsonor.es
SUMMARY:RECICLAJE C.27 CONDUCTORES DE CARRETILLA ELEVADORA 4H en VELAND AISLAMIENTOS REFRACTARIOS S.L de 2026-05-08 a 2026-05-08
DESCRIPTION:Modalidad: Presencial\n        Fecha de inicio: 2026-05-08\n        Fecha de finalización: 2026-05-08Duración: 4 horas
URL:https://previsonor.es/evento/reciclaje-c-27-conductores-de-carretilla-elevadora-4h-en-veland-aislamientos-refractarios-s-l-de-2026-05-08-a-2026-05-08/
END:VEVENT
BEGIN:VEVENT
DTSTART;TZID=UTC:20260508T153000
DTEND;TZID=UTC:20260508T213000
DTSTAMP:20260421T123118
CREATED:20260414T070058Z
LAST-MODIFIED:20260421T120058Z
UID:6219-1778254200-1778275800@previsonor.es
SUMMARY:CURSO ESPECIFICO PARA ALBAÑILERIA en PREVISONOR Ourense de 2026-05-08 a 2026-05-08
DESCRIPTION:Modalidad: Presencial\n        Fecha de inicio: 2026-05-08\n        Fecha de finalización: 2026-05-08Duración: 6 horas
URL:https://previsonor.es/evento/curso-especifico-para-albanileria-en-previsonor-ourense-de-2026-05-08-a-2026-05-08/
END:VEVENT
BEGIN:VEVENT
DTSTART;TZID=UTC:20260511T080000
DTEND;TZID=UTC:20260511T140000
DTSTAMP:20260421T123118
CREATED:20260413T100053Z
LAST-MODIFIED:20260421T120053Z
UID:6200-1778486400-1778508000@previsonor.es
SUMMARY:PREVENCION DE RIESGOS LABORALES PARA TRABAJOS EN TALLERES DE REPACION DE VEHÍCULOS 20H en PREVISONOR Ourense de 2026-05-04 a 2026-05-25
DESCRIPTION:Modalidad: Presencial\n        Fecha de inicio: 2026-05-04\n        Fecha de finalización: 2026-05-25Duración: 20 horas \nFechas clases presenciales (20 horas): \n\n2026-05-04 (Lunes)\n2026-05-11 (Lunes)\n2026-05-18 (Lunes)
URL:https://previsonor.es/evento/prevencion-de-riesgos-laborales-para-trabajos-en-talleres-de-repacion-de-vehiculos-20h-en-previsonor-ourense-de-2026-05-04-a-2026-05-25-2/
END:VEVENT
BEGIN:VEVENT
DTSTART;TZID=UTC:20260512T070000
DTEND;TZID=UTC:20260512T110000
DTSTAMP:20260421T123118
CREATED:20260415T120101Z
LAST-MODIFIED:20260421T120059Z
UID:6231-1778569200-1778583600@previsonor.es
SUMMARY:RECICLAJE - TRABAJOS DE CARPINTERIA METALICA 4P en INSTALACIONES CALVO CONSTRUCCIONES Y MONTAJES de 2026-05-12 a 2026-05-12
DESCRIPTION:Modalidad: Presencial\n        Fecha de inicio: 2026-05-12\n        Fecha de finalización: 2026-05-12Duración: 4 horas
URL:https://previsonor.es/evento/reciclaje-trabajos-de-carpinteria-metalica-4p-en-instalaciones-calvo-construcciones-y-montajes-de-2026-05-12-a-2026-05-12/
END:VEVENT
BEGIN:VEVENT
DTSTART;TZID=UTC:20260515T150000
DTEND;TZID=UTC:20260515T220000
DTSTAMP:20260421T123118
CREATED:20260414T070055Z
LAST-MODIFIED:20260421T120057Z
UID:6216-1778857200-1778882400@previsonor.es
SUMMARY:NIVEL BASICO DE PREVENCION EN CONSTRUCCION 20P+40O en PREVISONOR Ourense y Aula Formanor de 2026-05-07 a 2026-05-29
DESCRIPTION:Modalidad: Presencial\n        Fecha de inicio: 2026-05-07\n        Fecha de finalización: 2026-05-29Duración: 60 horas \nFechas clases presenciales (20 horas): \n\n2026-05-07 (Jueves)\n2026-05-08 (Viernes)\n2026-05-14 (Jueves)\n2026-05-15 (Viernes)\n2026-05-21 (Jueves)\n2026-05-22 (Viernes)\n2026-05-28 (Jueves)\n\n \n\n\n            Tutorías y teleformación (40 horas): \n\nDe Lunes a viernes de 9 a 12
URL:https://previsonor.es/evento/nivel-basico-de-prevencion-en-construccion-20p40o-en-previsonor-ourense-y-aula-formanor-de-2026-05-07-a-2026-05-29-2/
END:VEVENT
BEGIN:VEVENT
DTSTART;TZID=UTC:20260525T080000
DTEND;TZID=UTC:20260525T160000
DTSTAMP:20260421T123118
CREATED:20260413T100054Z
LAST-MODIFIED:20260421T120053Z
UID:6201-1779696000-1779724800@previsonor.es
SUMMARY:PREVENCION DE RIESGOS LABORALES PARA TRABAJOS EN TALLERES DE REPACION DE VEHÍCULOS 20H en PREVISONOR Ourense de 2026-05-04 a 2026-05-25
DESCRIPTION:Modalidad: Presencial\n        Fecha de inicio: 2026-05-04\n        Fecha de finalización: 2026-05-25Duración: 20 horas \nFechas clases presenciales (20 horas): \n\n2026-05-04 (Lunes)\n2026-05-11 (Lunes)\n2026-05-18 (Lunes)
URL:https://previsonor.es/evento/prevencion-de-riesgos-laborales-para-trabajos-en-talleres-de-repacion-de-vehiculos-20h-en-previsonor-ourense-de-2026-05-04-a-2026-05-25-3/
END:VEVENT
BEGIN:VEVENT
DTSTART;TZID=UTC:20260525T080000
DTEND;TZID=UTC:20260525T160000
DTSTAMP:20260421T123118
CREATED:20260413T100054Z
LAST-MODIFIED:20260421T120054Z
UID:6202-1779696000-1779724800@previsonor.es
SUMMARY:CURSO ESPECIFICO PARA TRABAJOS EN TALLERES DE REPARACION DE VEHICULOS 8H en PREVISONOR Ourense de 2026-05-25 a 2026-05-25
DESCRIPTION:Modalidad: Presencial\n        Fecha de inicio: 2026-05-25\n        Fecha de finalización: 2026-05-25Duración: 8 horas
URL:https://previsonor.es/evento/curso-especifico-para-trabajos-en-talleres-de-reparacion-de-vehiculos-8h-en-previsonor-ourense-de-2026-05-25-a-2026-05-25/
END:VEVENT
BEGIN:VEVENT
DTSTART;TZID=UTC:20260529T150000
DTEND;TZID=UTC:20260529T210000
DTSTAMP:20260421T123118
CREATED:20260414T070056Z
LAST-MODIFIED:20260421T120057Z
UID:6217-1780066800-1780088400@previsonor.es
SUMMARY:NIVEL BASICO DE PREVENCION EN CONSTRUCCION 20P+40O en PREVISONOR Ourense y Aula Formanor de 2026-05-07 a 2026-05-29
DESCRIPTION:Modalidad: Presencial\n        Fecha de inicio: 2026-05-07\n        Fecha de finalización: 2026-05-29Duración: 60 horas \nFechas clases presenciales (20 horas): \n\n2026-05-07 (Jueves)\n2026-05-08 (Viernes)\n2026-05-14 (Jueves)\n2026-05-15 (Viernes)\n2026-05-21 (Jueves)\n2026-05-22 (Viernes)\n2026-05-28 (Jueves)\n\n \n\n\n            Tutorías y teleformación (40 horas): \n\nDe Lunes a viernes de 9 a 12
URL:https://previsonor.es/evento/nivel-basico-de-prevencion-en-construccion-20p40o-en-previsonor-ourense-y-aula-formanor-de-2026-05-07-a-2026-05-29-3/
END:VEVENT
END:VCALENDAR