BEGIN:VCALENDAR
VERSION:2.0
PRODID:-//Previsonor - ECPv6.15.15//NONSGML v1.0//EN
CALSCALE:GREGORIAN
METHOD:PUBLISH
X-WR-CALNAME:Previsonor
X-ORIGINAL-URL:https://previsonor.es
X-WR-CALDESC:Eventos para Previsonor
REFRESH-INTERVAL;VALUE=DURATION:PT1H
X-Robots-Tag:noindex
X-PUBLISHED-TTL:PT1H
BEGIN:VTIMEZONE
TZID:UTC
BEGIN:STANDARD
TZOFFSETFROM:+0000
TZOFFSETTO:+0000
TZNAME:UTC
DTSTART:20250101T000000
END:STANDARD
END:VTIMEZONE
BEGIN:VEVENT
DTSTART;TZID=UTC:20260410T083000
DTEND;TZID=UTC:20260410T123000
DTSTAMP:20260421T123104
CREATED:20260325T140112Z
LAST-MODIFIED:20260421T120042Z
UID:6145-1775809800-1775824200@previsonor.es
SUMMARY:C.14 CURSO INSTALACIÓN\, MANTENIMIENTO Y REPARACIÓN DE EQUIPOS INFORMÁTICOS\, AUTOMATISMOS Y SU PROGRAMACIÓN\, ORDENADORES Y SUS PERIFÉRICOS O DISPOSITIVOS AUXILIARES; QUIPOS Y TECNOLOGÍAS DE TELECOMUNICACIONES Y DE LA INFORMACIÓN\, REDES DE INFORMACIÓN en INSTALACIONES TELEVES de 2026-04-07 a 2026-04-17
DESCRIPTION:Modalidad: Presencial\n        Fecha de inicio: 2026-04-07\n        Fecha de finalización: 2026-04-17Duración: 20 horas \nFechas clases presenciales (20 horas): \n\n2026-04-07 (Martes)\n2026-04-08 (Miércoles)\n2026-04-09 (Jueves)\n2026-04-10 (Viernes)\n2026-04-13 (Lunes)\n2026-04-14 (Martes)\n2026-04-15 (Miércoles)\n2026-04-16 (Jueves)
URL:https://previsonor.es/evento/c-14-curso-instalacion-mantenimiento-y-reparacion-de-equipos-informaticos-automatismos-y-su-programacion-ordenadores-y-sus-perifericos-o-dispositivos-auxiliares-quipos-y-tecnologias-de-telecomunic-2/
END:VEVENT
BEGIN:VEVENT
DTSTART;TZID=UTC:20260410T150000
DTEND;TZID=UTC:20260410T210000
DTSTAMP:20260421T123104
CREATED:20260401T100114Z
LAST-MODIFIED:20260421T120047Z
UID:6174-1775833200-1775854800@previsonor.es
SUMMARY:PREVENCION DE RIESGOS LABORALES PARA ALBAÑILERIA (20 H) en PREVISONOR PONTEVEDRA de 2026-04-08 a 2026-04-10
DESCRIPTION:Modalidad: Presencial\n        Fecha de inicio: 2026-04-08\n        Fecha de finalización: 2026-04-10Duración: 20 horas \nFechas clases presenciales (20 horas): \n\n2026-04-08 (Miércoles)\n2026-04-09 (Jueves)
URL:https://previsonor.es/evento/prevencion-de-riesgos-laborales-para-albanileria-20-h-en-previsonor-pontevedra-de-2026-04-08-a-2026-04-10-3/
END:VEVENT
BEGIN:VEVENT
DTSTART;TZID=UTC:20260410T150000
DTEND;TZID=UTC:20260410T210000
DTSTAMP:20260421T123104
CREATED:20260401T110114Z
LAST-MODIFIED:20260421T120048Z
UID:6180-1775833200-1775854800@previsonor.es
SUMMARY:CURSO ESPECIFICO PARA ALBAÑILERIA en PREVISONOR PONTEVEDRA de 2026-04-10 a 2026-04-10
DESCRIPTION:Modalidad: Presencial\n        Fecha de inicio: 2026-04-10\n        Fecha de finalización: 2026-04-10Duración: 6 horas
URL:https://previsonor.es/evento/curso-especifico-para-albanileria-en-previsonor-pontevedra-de-2026-04-10-a-2026-04-10/
END:VEVENT
BEGIN:VEVENT
DTSTART;TZID=UTC:20260411T080000
DTEND;TZID=UTC:20260411T140000
DTSTAMP:20260421T123104
CREATED:20260401T100115Z
LAST-MODIFIED:20260421T120047Z
UID:6175-1775894400-1775916000@previsonor.es
SUMMARY:CURSO ESPECIFICO PARA VEHICULOS Y MAQUINARIA DE MOVIMIENTO DE TIERRAS en PREVISONOR PONTEVEDRA de 2026-04-11 a 2026-04-11
DESCRIPTION:Modalidad: Presencial\n        Fecha de inicio: 2026-04-11\n        Fecha de finalización: 2026-04-11Duración: 6 horas
URL:https://previsonor.es/evento/curso-especifico-para-vehiculos-y-maquinaria-de-movimiento-de-tierras-en-previsonor-pontevedra-de-2026-04-11-a-2026-04-11/
END:VEVENT
BEGIN:VEVENT
DTSTART;TZID=UTC:20260411T080000
DTEND;TZID=UTC:20260411T160000
DTSTAMP:20260421T123104
CREATED:20260304T090138Z
LAST-MODIFIED:20260421T120023Z
UID:6007-1775894400-1775923200@previsonor.es
SUMMARY:PREVENCION DE RIESGOS LABORALES PARA TRABAJOS EN TALLERES DE REPACION DE VEHÍCULOS 20H en INSTALACIONES MAXIDEZA de 2026-03-21 a 2026-04-11
DESCRIPTION:Modalidad: Presencial\n        Fecha de inicio: 2026-03-21\n        Fecha de finalización: 2026-04-11Duración: 20 horas \nFechas clases presenciales (20 horas): \n\n2026-03-21 (Sábado)\n2026-03-28 (Sábado)\n2026-04-04 (Sábado)
URL:https://previsonor.es/evento/prevencion-de-riesgos-laborales-para-trabajos-en-talleres-de-repacion-de-vehiculos-20h-en-instalaciones-maxideza-de-2026-03-21-a-2026-04-11-3/
END:VEVENT
BEGIN:VEVENT
DTSTART;TZID=UTC:20260411T080000
DTEND;TZID=UTC:20260411T160000
DTSTAMP:20260421T123104
CREATED:20260304T090138Z
LAST-MODIFIED:20260421T120025Z
UID:6008-1775894400-1775923200@previsonor.es
SUMMARY:CURSO ESPECIFICO PARA TRABAJOS EN TALLERES DE REPARACION DE VEHICULOS 8H en INSTALACIONES MAXIDEZA de 2026-04-11 a 2026-04-11
DESCRIPTION:Modalidad: Presencial\n        Fecha de inicio: 2026-04-11\n        Fecha de finalización: 2026-04-11Duración: 8 horas
URL:https://previsonor.es/evento/curso-especifico-para-trabajos-en-talleres-de-reparacion-de-vehiculos-8h-en-instalaciones-maxideza-de-2026-04-11-a-2026-04-11/
END:VEVENT
BEGIN:VEVENT
DTSTART;TZID=UTC:20260413T080000
DTEND;TZID=UTC:20260413T150000
DTSTAMP:20260421T123104
CREATED:20260325T100105Z
LAST-MODIFIED:20260421T120037Z
UID:6110-1776067200-1776092400@previsonor.es
SUMMARY:PREVENCION DE RIESGOS LABORALES PARA ALBAÑILERIA (20 H) en PREVISONOR VIGO  de 2026-04-13 a 2026-04-15
DESCRIPTION:Modalidad: Presencial\n        Fecha de inicio: 2026-04-13\n        Fecha de finalización: 2026-04-15Duración: 20 horas \nFechas clases presenciales (20 horas): \n\n2026-04-13 (Lunes)\n2026-04-14 (Martes)
URL:https://previsonor.es/evento/prevencion-de-riesgos-laborales-para-albanileria-20-h-en-previsonor-vigo-de-2026-04-13-a-2026-04-15/
END:VEVENT
BEGIN:VEVENT
DTSTART;TZID=UTC:20260413T080000
DTEND;TZID=UTC:20260413T150000
DTSTAMP:20260421T123104
CREATED:20260410T120100Z
LAST-MODIFIED:20260421T120051Z
UID:6193-1776067200-1776092400@previsonor.es
SUMMARY:PREVENCION DE RIESGOS LABORALES PARA OPERADORES DE VEHICULOS Y MAQUINARIA DE MOVIMIENTO DE TIERRAS (20 H) en PREVISONOR VIGO  de 2026-04-13 a 2026-04-16
DESCRIPTION:Modalidad: Presencial\n        Fecha de inicio: 2026-04-13\n        Fecha de finalización: 2026-04-16Duración: 20 horas \nFechas clases presenciales (20 horas): \n\n2026-04-13 (Lunes)\n2026-04-14 (Martes)
URL:https://previsonor.es/evento/prevencion-de-riesgos-laborales-para-operadores-de-vehiculos-y-maquinaria-de-movimiento-de-tierras-20-h-en-previsonor-vigo-de-2026-04-13-a-2026-04-16/
END:VEVENT
BEGIN:VEVENT
DTSTART;TZID=UTC:20260413T083000
DTEND;TZID=UTC:20260413T123000
DTSTAMP:20260421T123104
CREATED:20260325T140113Z
LAST-MODIFIED:20260421T120043Z
UID:6146-1776069000-1776083400@previsonor.es
SUMMARY:C.14 CURSO INSTALACIÓN\, MANTENIMIENTO Y REPARACIÓN DE EQUIPOS INFORMÁTICOS\, AUTOMATISMOS Y SU PROGRAMACIÓN\, ORDENADORES Y SUS PERIFÉRICOS O DISPOSITIVOS AUXILIARES; QUIPOS Y TECNOLOGÍAS DE TELECOMUNICACIONES Y DE LA INFORMACIÓN\, REDES DE INFORMACIÓN en INSTALACIONES TELEVES de 2026-04-07 a 2026-04-17
DESCRIPTION:Modalidad: Presencial\n        Fecha de inicio: 2026-04-07\n        Fecha de finalización: 2026-04-17Duración: 20 horas \nFechas clases presenciales (20 horas): \n\n2026-04-07 (Martes)\n2026-04-08 (Miércoles)\n2026-04-09 (Jueves)\n2026-04-10 (Viernes)\n2026-04-13 (Lunes)\n2026-04-14 (Martes)\n2026-04-15 (Miércoles)\n2026-04-16 (Jueves)
URL:https://previsonor.es/evento/c-14-curso-instalacion-mantenimiento-y-reparacion-de-equipos-informaticos-automatismos-y-su-programacion-ordenadores-y-sus-perifericos-o-dispositivos-auxiliares-quipos-y-tecnologias-de-telecomunic-3/
END:VEVENT
BEGIN:VEVENT
DTSTART;TZID=UTC:20260413T150000
DTEND;TZID=UTC:20260413T190000
DTSTAMP:20260421T123104
CREATED:20260410T090057Z
LAST-MODIFIED:20260421T120048Z
UID:6183-1776092400-1776106800@previsonor.es
SUMMARY:PREVENCION DE RIESGOS LABORALES PARA TRABAJOS EN TALLERES DE REPACION DE VEHÍCULOS 20H en SEDE HYUNDAI de 2026-04-13 a 2026-04-17
DESCRIPTION:Modalidad: Presencial\n        Fecha de inicio: 2026-04-13\n        Fecha de finalización: 2026-04-17Duración: 20 horas \nFechas clases presenciales (20 horas): \n\n2026-04-13 (Lunes)\n2026-04-14 (Martes)\n2026-04-15 (Miércoles)\n2026-04-16 (Jueves)
URL:https://previsonor.es/evento/prevencion-de-riesgos-laborales-para-trabajos-en-talleres-de-repacion-de-vehiculos-20h-en-sede-hyundai-de-2026-04-13-a-2026-04-17/
END:VEVENT
BEGIN:VEVENT
DTSTART;TZID=UTC:20260414T080000
DTEND;TZID=UTC:20260414T150000
DTSTAMP:20260421T123104
CREATED:20260325T100105Z
LAST-MODIFIED:20260421T120037Z
UID:6111-1776153600-1776178800@previsonor.es
SUMMARY:PREVENCION DE RIESGOS LABORALES PARA ALBAÑILERIA (20 H) en PREVISONOR VIGO  de 2026-04-13 a 2026-04-15
DESCRIPTION:Modalidad: Presencial\n        Fecha de inicio: 2026-04-13\n        Fecha de finalización: 2026-04-15Duración: 20 horas \nFechas clases presenciales (20 horas): \n\n2026-04-13 (Lunes)\n2026-04-14 (Martes)
URL:https://previsonor.es/evento/prevencion-de-riesgos-laborales-para-albanileria-20-h-en-previsonor-vigo-de-2026-04-13-a-2026-04-15-2/
END:VEVENT
BEGIN:VEVENT
DTSTART;TZID=UTC:20260414T080000
DTEND;TZID=UTC:20260414T150000
DTSTAMP:20260421T123104
CREATED:20260410T120100Z
LAST-MODIFIED:20260421T120051Z
UID:6194-1776153600-1776178800@previsonor.es
SUMMARY:PREVENCION DE RIESGOS LABORALES PARA OPERADORES DE VEHICULOS Y MAQUINARIA DE MOVIMIENTO DE TIERRAS (20 H) en PREVISONOR VIGO  de 2026-04-13 a 2026-04-16
DESCRIPTION:Modalidad: Presencial\n        Fecha de inicio: 2026-04-13\n        Fecha de finalización: 2026-04-16Duración: 20 horas \nFechas clases presenciales (20 horas): \n\n2026-04-13 (Lunes)\n2026-04-14 (Martes)
URL:https://previsonor.es/evento/prevencion-de-riesgos-laborales-para-operadores-de-vehiculos-y-maquinaria-de-movimiento-de-tierras-20-h-en-previsonor-vigo-de-2026-04-13-a-2026-04-16-2/
END:VEVENT
BEGIN:VEVENT
DTSTART;TZID=UTC:20260414T150000
DTEND;TZID=UTC:20260414T190000
DTSTAMP:20260421T123104
CREATED:20260410T090058Z
LAST-MODIFIED:20260421T120049Z
UID:6184-1776178800-1776193200@previsonor.es
SUMMARY:PREVENCION DE RIESGOS LABORALES PARA TRABAJOS EN TALLERES DE REPACION DE VEHÍCULOS 20H en SEDE HYUNDAI de 2026-04-13 a 2026-04-17
DESCRIPTION:Modalidad: Presencial\n        Fecha de inicio: 2026-04-13\n        Fecha de finalización: 2026-04-17Duración: 20 horas \nFechas clases presenciales (20 horas): \n\n2026-04-13 (Lunes)\n2026-04-14 (Martes)\n2026-04-15 (Miércoles)\n2026-04-16 (Jueves)
URL:https://previsonor.es/evento/prevencion-de-riesgos-laborales-para-trabajos-en-talleres-de-repacion-de-vehiculos-20h-en-sede-hyundai-de-2026-04-13-a-2026-04-17-2/
END:VEVENT
BEGIN:VEVENT
DTSTART;TZID=UTC:20260415T080000
DTEND;TZID=UTC:20260415T140000
DTSTAMP:20260421T123104
CREATED:20260325T100106Z
LAST-MODIFIED:20260421T120038Z
UID:6112-1776240000-1776261600@previsonor.es
SUMMARY:PREVENCION DE RIESGOS LABORALES PARA ALBAÑILERIA (20 H) en PREVISONOR VIGO  de 2026-04-13 a 2026-04-15
DESCRIPTION:Modalidad: Presencial\n        Fecha de inicio: 2026-04-13\n        Fecha de finalización: 2026-04-15Duración: 20 horas \nFechas clases presenciales (20 horas): \n\n2026-04-13 (Lunes)\n2026-04-14 (Martes)
URL:https://previsonor.es/evento/prevencion-de-riesgos-laborales-para-albanileria-20-h-en-previsonor-vigo-de-2026-04-13-a-2026-04-15-3/
END:VEVENT
BEGIN:VEVENT
DTSTART;TZID=UTC:20260415T080000
DTEND;TZID=UTC:20260415T140000
DTSTAMP:20260421T123104
CREATED:20260325T100106Z
LAST-MODIFIED:20260421T120038Z
UID:6113-1776240000-1776261600@previsonor.es
SUMMARY:CURSO ESPECIFICO PARA ALBAÑILERIA en PREVISONOR VIGO  de 2026-04-15 a 2026-04-15
DESCRIPTION:Modalidad: Presencial\n        Fecha de inicio: 2026-04-15\n        Fecha de finalización: 2026-04-15Duración: 6 horas
URL:https://previsonor.es/evento/curso-especifico-para-albanileria-en-previsonor-vigo-de-2026-04-15-a-2026-04-15/
END:VEVENT
BEGIN:VEVENT
DTSTART;TZID=UTC:20260415T083000
DTEND;TZID=UTC:20260415T123000
DTSTAMP:20260421T123104
CREATED:20260325T140113Z
LAST-MODIFIED:20260421T120043Z
UID:6147-1776241800-1776256200@previsonor.es
SUMMARY:C.14 CURSO INSTALACIÓN\, MANTENIMIENTO Y REPARACIÓN DE EQUIPOS INFORMÁTICOS\, AUTOMATISMOS Y SU PROGRAMACIÓN\, ORDENADORES Y SUS PERIFÉRICOS O DISPOSITIVOS AUXILIARES; QUIPOS Y TECNOLOGÍAS DE TELECOMUNICACIONES Y DE LA INFORMACIÓN\, REDES DE INFORMACIÓN en INSTALACIONES TELEVES de 2026-04-07 a 2026-04-17
DESCRIPTION:Modalidad: Presencial\n        Fecha de inicio: 2026-04-07\n        Fecha de finalización: 2026-04-17Duración: 20 horas \nFechas clases presenciales (20 horas): \n\n2026-04-07 (Martes)\n2026-04-08 (Miércoles)\n2026-04-09 (Jueves)\n2026-04-10 (Viernes)\n2026-04-13 (Lunes)\n2026-04-14 (Martes)\n2026-04-15 (Miércoles)\n2026-04-16 (Jueves)
URL:https://previsonor.es/evento/c-14-curso-instalacion-mantenimiento-y-reparacion-de-equipos-informaticos-automatismos-y-su-programacion-ordenadores-y-sus-perifericos-o-dispositivos-auxiliares-quipos-y-tecnologias-de-telecomunic-4/
END:VEVENT
BEGIN:VEVENT
DTSTART;TZID=UTC:20260415T083000
DTEND;TZID=UTC:20260415T123000
DTSTAMP:20260421T123104
CREATED:20260331T090107Z
LAST-MODIFIED:20260421T120045Z
UID:6158-1776241800-1776256200@previsonor.es
SUMMARY:TRABAJOS DE INSTALACIÓN\, MANTENIMIENTO Y REPARACIÓN DE EQUIPOS INFORMÁTICOS\, AUTOMATISMOS Y SU PROGRAMACIÓN\, ORDENADORES Y SUS PERIFÉRICOS O DISPOSITIVOS AUXILIARES; EQUIPOS Y TECNOLOGÍAS DE TELECOMUNICACIONES Y DE LA INFORMACIÓN\,REDES DE INFORMACIÓN(TICS) en INSTALACIONES TELEVES de 2026-04-15 a 2026-04-17
DESCRIPTION:Modalidad: Presencial\n        Fecha de inicio: 2026-04-15\n        Fecha de finalización: 2026-04-17Duración: 8 horas \nFechas clases presenciales (8 horas): \n\n2026-04-15 (Miércoles)
URL:https://previsonor.es/evento/trabajos-de-instalacion-mantenimiento-y-reparacion-de-equipos-informaticos-automatismos-y-su-programacion-ordenadores-y-sus-perifericos-o-dispositivos-auxiliares-equipos-y-tecnologias-de-telecomun/
END:VEVENT
BEGIN:VEVENT
DTSTART;TZID=UTC:20260415T150000
DTEND;TZID=UTC:20260415T190000
DTSTAMP:20260421T123104
CREATED:20260410T090058Z
LAST-MODIFIED:20260421T120049Z
UID:6185-1776265200-1776279600@previsonor.es
SUMMARY:PREVENCION DE RIESGOS LABORALES PARA TRABAJOS EN TALLERES DE REPACION DE VEHÍCULOS 20H en SEDE HYUNDAI de 2026-04-13 a 2026-04-17
DESCRIPTION:Modalidad: Presencial\n        Fecha de inicio: 2026-04-13\n        Fecha de finalización: 2026-04-17Duración: 20 horas \nFechas clases presenciales (20 horas): \n\n2026-04-13 (Lunes)\n2026-04-14 (Martes)\n2026-04-15 (Miércoles)\n2026-04-16 (Jueves)
URL:https://previsonor.es/evento/prevencion-de-riesgos-laborales-para-trabajos-en-talleres-de-repacion-de-vehiculos-20h-en-sede-hyundai-de-2026-04-13-a-2026-04-17-3/
END:VEVENT
BEGIN:VEVENT
DTSTART;TZID=UTC:20260416T080000
DTEND;TZID=UTC:20260416T140000
DTSTAMP:20260421T123104
CREATED:20260325T100107Z
LAST-MODIFIED:20260421T120038Z
UID:6114-1776326400-1776348000@previsonor.es
SUMMARY:CURSO ESPECIFICO PARA VEHICULOS Y MAQUINARIA DE MOVIMIENTO DE TIERRAS en PREVISONOR VIGO  de 2026-04-16 a 2026-04-16
DESCRIPTION:Modalidad: Presencial\n        Fecha de inicio: 2026-04-16\n        Fecha de finalización: 2026-04-16Duración: 6 horas
URL:https://previsonor.es/evento/curso-especifico-para-pintura-en-previsonor-vigo-de-2026-04-16-a-2026-04-16/
END:VEVENT
BEGIN:VEVENT
DTSTART;TZID=UTC:20260416T080000
DTEND;TZID=UTC:20260416T150000
DTSTAMP:20260421T123104
CREATED:20260410T120102Z
LAST-MODIFIED:20260421T120052Z
UID:6195-1776326400-1776351600@previsonor.es
SUMMARY:PREVENCION DE RIESGOS LABORALES PARA OPERADORES DE VEHICULOS Y MAQUINARIA DE MOVIMIENTO DE TIERRAS (20 H) en PREVISONOR VIGO  de 2026-04-13 a 2026-04-16
DESCRIPTION:Modalidad: Presencial\n        Fecha de inicio: 2026-04-13\n        Fecha de finalización: 2026-04-16Duración: 20 horas \nFechas clases presenciales (20 horas): \n\n2026-04-13 (Lunes)\n2026-04-14 (Martes)
URL:https://previsonor.es/evento/prevencion-de-riesgos-laborales-para-operadores-de-vehiculos-y-maquinaria-de-movimiento-de-tierras-20-h-en-previsonor-vigo-de-2026-04-13-a-2026-04-16-3/
END:VEVENT
BEGIN:VEVENT
DTSTART;TZID=UTC:20260416T150000
DTEND;TZID=UTC:20260416T190000
DTSTAMP:20260421T123104
CREATED:20260410T090059Z
LAST-MODIFIED:20260421T120050Z
UID:6186-1776351600-1776366000@previsonor.es
SUMMARY:PREVENCION DE RIESGOS LABORALES PARA TRABAJOS EN TALLERES DE REPACION DE VEHÍCULOS 20H en SEDE HYUNDAI de 2026-04-13 a 2026-04-17
DESCRIPTION:Modalidad: Presencial\n        Fecha de inicio: 2026-04-13\n        Fecha de finalización: 2026-04-17Duración: 20 horas \nFechas clases presenciales (20 horas): \n\n2026-04-13 (Lunes)\n2026-04-14 (Martes)\n2026-04-15 (Miércoles)\n2026-04-16 (Jueves)
URL:https://previsonor.es/evento/prevencion-de-riesgos-laborales-para-trabajos-en-talleres-de-repacion-de-vehiculos-20h-en-sede-hyundai-de-2026-04-13-a-2026-04-17-4/
END:VEVENT
BEGIN:VEVENT
DTSTART;TZID=UTC:20260417T000000
DTEND;TZID=UTC:20260508T000000
DTSTAMP:20260421T123104
CREATED:20260325T100103Z
LAST-MODIFIED:20260421T120036Z
UID:6106-1776384000-1778198400@previsonor.es
SUMMARY:NIVEL BASICO DE PREVENCION EN CONSTRUCCION 20P+40O en PREVISONOR VIGO  y Aula Formanor de 2026-04-17 a 2026-05-08
DESCRIPTION:Modalidad: Online\n        Fecha de inicio: 2026-04-17\n        Fecha de finalización: 2026-05-08Duración: 60 horas \nFechas clases presenciales (20 horas): \n\n2026-04-17 (Viernes)\n2026-04-24 (Viernes)\n2026-05-01 (Viernes)\n\n \n\n\n            Tutorías y teleformación (40 horas):
URL:https://previsonor.es/evento/nivel-basico-de-prevencion-en-construccion-20p40o-en-previsonor-vigo-y-aula-formanor-de-2026-04-17-a-2026-05-08-4/
END:VEVENT
BEGIN:VEVENT
DTSTART;TZID=UTC:20260417T080000
DTEND;TZID=UTC:20260417T150000
DTSTAMP:20260421T123104
CREATED:20260325T100101Z
LAST-MODIFIED:20260421T120035Z
UID:6103-1776412800-1776438000@previsonor.es
SUMMARY:NIVEL BASICO DE PREVENCION EN CONSTRUCCION 20P+40O en PREVISONOR VIGO  y Aula Formanor de 2026-04-17 a 2026-05-08
DESCRIPTION:Modalidad: Presencial\n        Fecha de inicio: 2026-04-17\n        Fecha de finalización: 2026-05-08Duración: 60 horas \nFechas clases presenciales (20 horas): \n\n2026-04-17 (Viernes)\n2026-04-24 (Viernes)\n2026-05-01 (Viernes)\n\n \n\n\n            Tutorías y teleformación (40 horas):
URL:https://previsonor.es/evento/nivel-basico-de-prevencion-en-construccion-20p40o-en-previsonor-vigo-y-aula-formanor-de-2026-04-17-a-2026-05-08/
END:VEVENT
BEGIN:VEVENT
DTSTART;TZID=UTC:20260417T083000
DTEND;TZID=UTC:20260417T123000
DTSTAMP:20260421T123104
CREATED:20260325T140114Z
LAST-MODIFIED:20260421T120044Z
UID:6148-1776414600-1776429000@previsonor.es
SUMMARY:C.14 CURSO INSTALACIÓN\, MANTENIMIENTO Y REPARACIÓN DE EQUIPOS INFORMÁTICOS\, AUTOMATISMOS Y SU PROGRAMACIÓN\, ORDENADORES Y SUS PERIFÉRICOS O DISPOSITIVOS AUXILIARES; QUIPOS Y TECNOLOGÍAS DE TELECOMUNICACIONES Y DE LA INFORMACIÓN\, REDES DE INFORMACIÓN en INSTALACIONES TELEVES de 2026-04-07 a 2026-04-17
DESCRIPTION:Modalidad: Presencial\n        Fecha de inicio: 2026-04-07\n        Fecha de finalización: 2026-04-17Duración: 20 horas \nFechas clases presenciales (20 horas): \n\n2026-04-07 (Martes)\n2026-04-08 (Miércoles)\n2026-04-09 (Jueves)\n2026-04-10 (Viernes)\n2026-04-13 (Lunes)\n2026-04-14 (Martes)\n2026-04-15 (Miércoles)\n2026-04-16 (Jueves)
URL:https://previsonor.es/evento/c-14-curso-instalacion-mantenimiento-y-reparacion-de-equipos-informaticos-automatismos-y-su-programacion-ordenadores-y-sus-perifericos-o-dispositivos-auxiliares-quipos-y-tecnologias-de-telecomunic-5/
END:VEVENT
BEGIN:VEVENT
DTSTART;TZID=UTC:20260417T083000
DTEND;TZID=UTC:20260417T123000
DTSTAMP:20260421T123104
CREATED:20260331T090107Z
LAST-MODIFIED:20260421T120045Z
UID:6159-1776414600-1776429000@previsonor.es
SUMMARY:TRABAJOS DE INSTALACIÓN\, MANTENIMIENTO Y REPARACIÓN DE EQUIPOS INFORMÁTICOS\, AUTOMATISMOS Y SU PROGRAMACIÓN\, ORDENADORES Y SUS PERIFÉRICOS O DISPOSITIVOS AUXILIARES; EQUIPOS Y TECNOLOGÍAS DE TELECOMUNICACIONES Y DE LA INFORMACIÓN\,REDES DE INFORMACIÓN(TICS) en INSTALACIONES TELEVES de 2026-04-15 a 2026-04-17
DESCRIPTION:Modalidad: Presencial\n        Fecha de inicio: 2026-04-15\n        Fecha de finalización: 2026-04-17Duración: 8 horas \nFechas clases presenciales (8 horas): \n\n2026-04-15 (Miércoles)
URL:https://previsonor.es/evento/trabajos-de-instalacion-mantenimiento-y-reparacion-de-equipos-informaticos-automatismos-y-su-programacion-ordenadores-y-sus-perifericos-o-dispositivos-auxiliares-equipos-y-tecnologias-de-telecomun-2/
END:VEVENT
BEGIN:VEVENT
DTSTART;TZID=UTC:20260417T150000
DTEND;TZID=UTC:20260417T190000
DTSTAMP:20260421T123104
CREATED:20260410T090059Z
LAST-MODIFIED:20260421T120050Z
UID:6187-1776438000-1776452400@previsonor.es
SUMMARY:PREVENCION DE RIESGOS LABORALES PARA TRABAJOS EN TALLERES DE REPACION DE VEHÍCULOS 20H en SEDE HYUNDAI de 2026-04-13 a 2026-04-17
DESCRIPTION:Modalidad: Presencial\n        Fecha de inicio: 2026-04-13\n        Fecha de finalización: 2026-04-17Duración: 20 horas \nFechas clases presenciales (20 horas): \n\n2026-04-13 (Lunes)\n2026-04-14 (Martes)\n2026-04-15 (Miércoles)\n2026-04-16 (Jueves)
URL:https://previsonor.es/evento/prevencion-de-riesgos-laborales-para-trabajos-en-talleres-de-repacion-de-vehiculos-20h-en-sede-hyundai-de-2026-04-13-a-2026-04-17-5/
END:VEVENT
BEGIN:VEVENT
DTSTART;TZID=UTC:20260418T080000
DTEND;TZID=UTC:20260418T160000
DTSTAMP:20260421T123104
CREATED:20260304T090136Z
LAST-MODIFIED:20260421T120022Z
UID:6004-1776499200-1776528000@previsonor.es
SUMMARY:C.30 -OPERARIOS EN ALMACÉN Y LOGÍSTICA Y APROVECHAMIENTO EN LOS PROCESOS DE FABRICACIÓN (INCLUYENDO ENTRE OTRAS ACTIVIDADES EL EMPAQUETADO\, PREPARACIÓN DE PRODUCTOS\, REPROCESADO\, CON LA AYUDA O NO DE ELEMENTOS MECÁNICOS Y OTRAS TAREAS DE APROVISIONAMIENTO en INSTALACIONES MAXIDEZA de 2026-03-21 a 2026-04-18
DESCRIPTION:Modalidad: Presencial\n        Fecha de inicio: 2026-03-21\n        Fecha de finalización: 2026-04-18Duración: 20 horas \nFechas clases presenciales (20 horas): \n\n2026-03-21 (Sábado)\n2026-03-28 (Sábado)\n2026-04-04 (Sábado)\n2026-04-11 (Sábado)
URL:https://previsonor.es/evento/c-30-operarios-en-almacen-y-logistica-y-aprovechamiento-en-los-procesos-de-fabricacion-incluyendo-entre-otras-actividades-el-empaquetado-preparacion-de-productos-reprocesado-con-la-ayuda-o-no-de-3/
END:VEVENT
BEGIN:VEVENT
DTSTART;TZID=UTC:20260420T074500
DTEND;TZID=UTC:20260420T144500
DTSTAMP:20260421T123104
CREATED:20260414T060055Z
LAST-MODIFIED:20260421T120054Z
UID:6207-1776671100-1776696300@previsonor.es
SUMMARY:PREVENCION DE RIESGOS LABORALES PARA ELECTRICIDAD: MONTAJE Y MANTENIMIENTO DE INSTALACIONES ELECTRICAS DE ALTA Y BAJA TENSION (20 H) en PREVISONOR PONTEVEDRA de 2026-04-20 a 2026-04-22
DESCRIPTION:Modalidad: Presencial\n        Fecha de inicio: 2026-04-20\n        Fecha de finalización: 2026-04-22Duración: 20 horas \nFechas clases presenciales (20 horas): \n\n2026-04-20 (Lunes)\n2026-04-21 (Martes)
URL:https://previsonor.es/evento/prevencion-de-riesgos-laborales-para-electricidad-montaje-y-mantenimiento-de-instalaciones-electricas-de-alta-y-baja-tension-20-h-en-previsonor-pontevedra-de-2026-04-20-a-2026-04-22/
END:VEVENT
BEGIN:VEVENT
DTSTART;TZID=UTC:20260421T074500
DTEND;TZID=UTC:20260421T144500
DTSTAMP:20260421T123104
CREATED:20260414T060055Z
LAST-MODIFIED:20260421T120055Z
UID:6208-1776757500-1776782700@previsonor.es
SUMMARY:PREVENCION DE RIESGOS LABORALES PARA ELECTRICIDAD: MONTAJE Y MANTENIMIENTO DE INSTALACIONES ELECTRICAS DE ALTA Y BAJA TENSION (20 H) en PREVISONOR PONTEVEDRA de 2026-04-20 a 2026-04-22
DESCRIPTION:Modalidad: Presencial\n        Fecha de inicio: 2026-04-20\n        Fecha de finalización: 2026-04-22Duración: 20 horas \nFechas clases presenciales (20 horas): \n\n2026-04-20 (Lunes)\n2026-04-21 (Martes)
URL:https://previsonor.es/evento/prevencion-de-riesgos-laborales-para-electricidad-montaje-y-mantenimiento-de-instalaciones-electricas-de-alta-y-baja-tension-20-h-en-previsonor-pontevedra-de-2026-04-20-a-2026-04-22-2/
END:VEVENT
BEGIN:VEVENT
DTSTART;TZID=UTC:20260421T080000
DTEND;TZID=UTC:20260421T140000
DTSTAMP:20260421T123104
CREATED:20260415T110059Z
LAST-MODIFIED:20260421T120059Z
UID:6229-1776758400-1776780000@previsonor.es
SUMMARY:CURSO ESPECIFICO PARA APARATOS ELEVADORES en PREVISONOR VIGO  de 2026-04-21 a 2026-04-21
DESCRIPTION:Modalidad: Presencial\n        Fecha de inicio: 2026-04-21\n        Fecha de finalización: 2026-04-21Duración: 6 horas
URL:https://previsonor.es/evento/curso-especifico-para-aparatos-elevadores-en-previsonor-vigo-de-2026-04-21-a-2026-04-21/
END:VEVENT
END:VCALENDAR