BEGIN:VCALENDAR
VERSION:2.0
PRODID:-//Previsonor - ECPv6.15.15//NONSGML v1.0//EN
CALSCALE:GREGORIAN
METHOD:PUBLISH
X-WR-CALNAME:Previsonor
X-ORIGINAL-URL:https://previsonor.es
X-WR-CALDESC:Eventos para Previsonor
REFRESH-INTERVAL;VALUE=DURATION:PT1H
X-Robots-Tag:noindex
X-PUBLISHED-TTL:PT1H
BEGIN:VTIMEZONE
TZID:UTC
BEGIN:STANDARD
TZOFFSETFROM:+0000
TZOFFSETTO:+0000
TZNAME:UTC
DTSTART:20250101T000000
END:STANDARD
END:VTIMEZONE
BEGIN:VEVENT
DTSTART;TZID=UTC:20260330T080000
DTEND;TZID=UTC:20260330T140000
DTSTAMP:20260424T061819
CREATED:20260303T090133Z
LAST-MODIFIED:20260424T060016Z
UID:5981-1774857600-1774879200@previsonor.es
SUMMARY:PREVENCION DE RIESGOS LABORALES PARA DEMOLICION Y REHABILITACION (20 H) en PREVISONOR VIGO  de 2026-03-24 a 2026-03-30
DESCRIPTION:Modalidad: Presencial\n        Fecha de inicio: 2026-03-24\n        Fecha de finalización: 2026-03-30Duración: 20 horas \nFechas clases presenciales (20 horas): \n\n2026-03-24 (Martes)\n2026-03-25 (Miércoles)
URL:https://previsonor.es/evento/operario-de-taller-de-materiales-piedras-industriales-tratamiento-o-transformacion-de-materialescanteros-y-similares-en-previsonor-vigo-de-2026-03-24-a-2026-03-30-3/
END:VEVENT
BEGIN:VEVENT
DTSTART;TZID=UTC:20260330T080000
DTEND;TZID=UTC:20260330T140000
DTSTAMP:20260424T061819
CREATED:20260318T120115Z
LAST-MODIFIED:20260424T060027Z
UID:6081-1774857600-1774879200@previsonor.es
SUMMARY:CURSO ESPECIFICO PARA DEMOLICION Y REHABILITACION                                                                                                      en PREVISONOR VIGO  de 2026-03-30 a 2026-03-30
DESCRIPTION:Modalidad: Presencial\n        Fecha de inicio: 2026-03-30\n        Fecha de finalización: 2026-03-30Duración: 6 horas
URL:https://previsonor.es/evento/curso-especifico-para-demolicion-y-rehabilitacion-en-previsonor-vigo-de-2026-03-30-a-2026-03-30/
END:VEVENT
BEGIN:VEVENT
DTSTART;TZID=UTC:20260330T080000
DTEND;TZID=UTC:20260330T150000
DTSTAMP:20260424T061819
CREATED:20260303T150127Z
LAST-MODIFIED:20260424T060018Z
UID:5996-1774857600-1774882800@previsonor.es
SUMMARY:PREVENCION DE RIESGOS LABORALES PARA FONTANERIA (20 H) en PREVISONOR PONTEVEDRA de 2026-03-30 a 2026-04-01
DESCRIPTION:Modalidad: Presencial\n        Fecha de inicio: 2026-03-30\n        Fecha de finalización: 2026-04-01Duración: 20 horas \nFechas clases presenciales (20 horas): \n\n2026-03-30 (Lunes)\n2026-03-31 (Martes)
URL:https://previsonor.es/evento/prevencion-de-riesgos-laborales-para-fontaneria-20-h-en-previsonor-pontevedra-de-2026-03-30-a-2026-04-01-4/
END:VEVENT
BEGIN:VEVENT
DTSTART;TZID=UTC:20260330T090000
DTEND;TZID=UTC:20260330T140000
DTSTAMP:20260424T061819
CREATED:20260224T150110Z
LAST-MODIFIED:20260424T060008Z
UID:5902-1774861200-1774879200@previsonor.es
SUMMARY:NIVEL BASICO DE PREVENCION EN CONSTRUCCION 20P+40O en PREVISONOR VIGO  y Aula Formanor de 2026-03-09 a 2026-03-30
DESCRIPTION:Modalidad: Presencial\n        Fecha de inicio: 2026-03-09\n        Fecha de finalización: 2026-03-30Duración: 60 horas \nFechas clases presenciales (20 horas): \n\n2026-03-09 (Lunes)\n2026-03-16 (Lunes)\n2026-03-23 (Lunes)\n\n \n\n\n            Tutorías y teleformación (40 horas):
URL:https://previsonor.es/evento/nivel-basico-de-prevencion-en-construccion-20p40o-en-previsonor-vigo-y-aula-formanor-de-2026-03-09-a-2026-03-30-4/
END:VEVENT
BEGIN:VEVENT
DTSTART;TZID=UTC:20260330T150000
DTEND;TZID=UTC:20260330T220000
DTSTAMP:20260424T061819
CREATED:20260323T140107Z
LAST-MODIFIED:20260424T060028Z
UID:6086-1774882800-1774908000@previsonor.es
SUMMARY:PREVENCION DE RIESGOS LABORALES PARA FONTANERIA (20 H) en PREVISONOR VIGO  de 2026-03-30 a 2026-04-01
DESCRIPTION:Modalidad: Presencial\n        Fecha de inicio: 2026-03-30\n        Fecha de finalización: 2026-04-01Duración: 20 horas \nFechas clases presenciales (20 horas): \n\n2026-03-30 (Lunes)\n2026-03-31 (Martes)
URL:https://previsonor.es/evento/prevencion-de-riesgos-laborales-para-fontaneria-20-h-en-previsonor-vigo-de-2026-03-30-a-2026-04-01/
END:VEVENT
BEGIN:VEVENT
DTSTART;TZID=UTC:20260331T080000
DTEND;TZID=UTC:20260331T140000
DTSTAMP:20260424T061819
CREATED:20260303T090134Z
LAST-MODIFIED:20260424T060017Z
UID:5984-1774944000-1774965600@previsonor.es
SUMMARY:PREVENCION DE RIESGOS LABORALES PARA OPERADORES DE VEHICULOS Y MAQUINARIA DE MOVIMIENTO DE TIERRAS (20 H) en PREVISONOR VIGO  de 2026-03-24 a 2026-03-31
DESCRIPTION:Modalidad: Presencial\n        Fecha de inicio: 2026-03-24\n        Fecha de finalización: 2026-03-31Duración: 20 horas \nFechas clases presenciales (20 horas): \n\n2026-03-24 (Martes)\n2026-03-25 (Miércoles)
URL:https://previsonor.es/evento/prevencion-de-riesgos-laborales-para-operadores-de-vehiculos-y-maquinaria-de-movimiento-de-tierras-20-h-en-previsonor-vigo-de-2026-03-24-a-2026-03-31-3/
END:VEVENT
BEGIN:VEVENT
DTSTART;TZID=UTC:20260331T080000
DTEND;TZID=UTC:20260331T140000
DTSTAMP:20260424T061819
CREATED:20260317T130118Z
LAST-MODIFIED:20260424T060026Z
UID:6077-1774944000-1774965600@previsonor.es
SUMMARY:CURSO ESPECIFICO PARA VEHICULOS Y MAQUINARIA DE MOVIMIENTO DE TIERRAS en PREVISONOR VIGO  de 2026-03-31 a 2026-03-31
DESCRIPTION:Modalidad: Presencial\n        Fecha de inicio: 2026-03-31\n        Fecha de finalización: 2026-03-31Duración: 6 horas
URL:https://previsonor.es/evento/curso-especifico-para-vehiculos-y-maquinaria-de-movimiento-de-tierras-en-previsonor-vigo-de-2026-03-31-a-2026-03-31/
END:VEVENT
BEGIN:VEVENT
DTSTART;TZID=UTC:20260331T080000
DTEND;TZID=UTC:20260331T150000
DTSTAMP:20260424T061819
CREATED:20260303T150128Z
LAST-MODIFIED:20260424T060018Z
UID:5997-1774944000-1774969200@previsonor.es
SUMMARY:PREVENCION DE RIESGOS LABORALES PARA FONTANERIA (20 H) en PREVISONOR PONTEVEDRA de 2026-03-30 a 2026-04-01
DESCRIPTION:Modalidad: Presencial\n        Fecha de inicio: 2026-03-30\n        Fecha de finalización: 2026-04-01Duración: 20 horas \nFechas clases presenciales (20 horas): \n\n2026-03-30 (Lunes)\n2026-03-31 (Martes)
URL:https://previsonor.es/evento/prevencion-de-riesgos-laborales-para-fontaneria-20-h-en-previsonor-pontevedra-de-2026-03-30-a-2026-04-01-5/
END:VEVENT
BEGIN:VEVENT
DTSTART;TZID=UTC:20260331T150000
DTEND;TZID=UTC:20260331T220000
DTSTAMP:20260424T061819
CREATED:20260323T140108Z
LAST-MODIFIED:20260424T060028Z
UID:6087-1774969200-1774994400@previsonor.es
SUMMARY:PREVENCION DE RIESGOS LABORALES PARA FONTANERIA (20 H) en PREVISONOR VIGO  de 2026-03-30 a 2026-04-01
DESCRIPTION:Modalidad: Presencial\n        Fecha de inicio: 2026-03-30\n        Fecha de finalización: 2026-04-01Duración: 20 horas \nFechas clases presenciales (20 horas): \n\n2026-03-30 (Lunes)\n2026-03-31 (Martes)
URL:https://previsonor.es/evento/prevencion-de-riesgos-laborales-para-fontaneria-20-h-en-previsonor-vigo-de-2026-03-30-a-2026-04-01-2/
END:VEVENT
BEGIN:VEVENT
DTSTART;TZID=UTC:20260401T073000
DTEND;TZID=UTC:20260401T133000
DTSTAMP:20260424T061819
CREATED:20260327T100109Z
LAST-MODIFIED:20260424T060039Z
UID:6156-1775028600-1775050200@previsonor.es
SUMMARY:CURSO ESPECIFICO DE FONTANERIA E INSTALACIONES DE CLIMATIZACION en PREVISONOR PONTEVEDRA de 2026-04-01 a 2026-04-01
DESCRIPTION:Modalidad: Presencial\n        Fecha de inicio: 2026-04-01\n        Fecha de finalización: 2026-04-01Duración: 6 horas
URL:https://previsonor.es/evento/curso-especifico-de-fontaneria-e-instalaciones-de-climatizacion-en-previsonor-pontevedra-de-2026-04-01-a-2026-04-01/
END:VEVENT
BEGIN:VEVENT
DTSTART;TZID=UTC:20260401T080000
DTEND;TZID=UTC:20260401T140000
DTSTAMP:20260424T061819
CREATED:20260303T150128Z
LAST-MODIFIED:20260424T060019Z
UID:5998-1775030400-1775052000@previsonor.es
SUMMARY:PREVENCION DE RIESGOS LABORALES PARA FONTANERIA (20 H) en PREVISONOR PONTEVEDRA de 2026-03-30 a 2026-04-01
DESCRIPTION:Modalidad: Presencial\n        Fecha de inicio: 2026-03-30\n        Fecha de finalización: 2026-04-01Duración: 20 horas \nFechas clases presenciales (20 horas): \n\n2026-03-30 (Lunes)\n2026-03-31 (Martes)
URL:https://previsonor.es/evento/prevencion-de-riesgos-laborales-para-fontaneria-20-h-en-previsonor-pontevedra-de-2026-03-30-a-2026-04-01-6/
END:VEVENT
BEGIN:VEVENT
DTSTART;TZID=UTC:20260401T080000
DTEND;TZID=UTC:20260401T160000
DTSTAMP:20260424T061819
CREATED:20260325T090057Z
LAST-MODIFIED:20260424T060029Z
UID:6092-1775030400-1775059200@previsonor.es
SUMMARY:TRABAJOS EN ALTURA 4T+4P en PREVISONOR VIGO  de 2026-04-01 a 2026-04-01
DESCRIPTION:Modalidad: Presencial\n        Fecha de inicio: 2026-04-01\n        Fecha de finalización: 2026-04-01Duración: 8 horas
URL:https://previsonor.es/evento/trabajos-en-altura-4t4p-en-previsonor-vigo-de-2026-04-01-a-2026-04-01/
END:VEVENT
BEGIN:VEVENT
DTSTART;TZID=UTC:20260401T150000
DTEND;TZID=UTC:20260401T210000
DTSTAMP:20260424T061819
CREATED:20260323T140108Z
LAST-MODIFIED:20260424T060029Z
UID:6088-1775055600-1775077200@previsonor.es
SUMMARY:PREVENCION DE RIESGOS LABORALES PARA FONTANERIA (20 H) en PREVISONOR VIGO  de 2026-03-30 a 2026-04-01
DESCRIPTION:Modalidad: Presencial\n        Fecha de inicio: 2026-03-30\n        Fecha de finalización: 2026-04-01Duración: 20 horas \nFechas clases presenciales (20 horas): \n\n2026-03-30 (Lunes)\n2026-03-31 (Martes)
URL:https://previsonor.es/evento/prevencion-de-riesgos-laborales-para-fontaneria-20-h-en-previsonor-vigo-de-2026-03-30-a-2026-04-01-3/
END:VEVENT
BEGIN:VEVENT
DTSTART;TZID=UTC:20260407T080000
DTEND;TZID=UTC:20260407T150000
DTSTAMP:20260424T061819
CREATED:20260325T090058Z
LAST-MODIFIED:20260424T060030Z
UID:6094-1775548800-1775574000@previsonor.es
SUMMARY:PRL PARA INSTALACIONES\, REPARACIONES\, MONTAJES\, ESTRUCTURAS METALICAS\, CERRAJERIA Y CARPINTERIA METALICA en PREVISONOR VIGO  de 2026-04-07 a 2026-04-09
DESCRIPTION:Modalidad: Presencial\n        Fecha de inicio: 2026-04-07\n        Fecha de finalización: 2026-04-09Duración: 20 horas \nFechas clases presenciales (20 horas): \n\n2026-04-07 (Martes)\n2026-04-08 (Miércoles)
URL:https://previsonor.es/evento/prl-para-instalaciones-reparaciones-montajes-estructuras-metalicas-cerrajeria-y-carpinteria-metalica-en-previsonor-vigo-de-2026-04-07-a-2026-04-09/
END:VEVENT
BEGIN:VEVENT
DTSTART;TZID=UTC:20260407T083000
DTEND;TZID=UTC:20260407T123000
DTSTAMP:20260424T061819
CREATED:20260325T140112Z
LAST-MODIFIED:20260424T060036Z
UID:6144-1775550600-1775565000@previsonor.es
SUMMARY:C.14 CURSO INSTALACIÓN\, MANTENIMIENTO Y REPARACIÓN DE EQUIPOS INFORMÁTICOS\, AUTOMATISMOS Y SU PROGRAMACIÓN\, ORDENADORES Y SUS PERIFÉRICOS O DISPOSITIVOS AUXILIARES; QUIPOS Y TECNOLOGÍAS DE TELECOMUNICACIONES Y DE LA INFORMACIÓN\, REDES DE INFORMACIÓN en INSTALACIONES TELEVES de 2026-04-07 a 2026-04-17
DESCRIPTION:Modalidad: Presencial\n        Fecha de inicio: 2026-04-07\n        Fecha de finalización: 2026-04-17Duración: 20 horas \nFechas clases presenciales (20 horas): \n\n2026-04-07 (Martes)\n2026-04-08 (Miércoles)\n2026-04-09 (Jueves)\n2026-04-10 (Viernes)\n2026-04-13 (Lunes)\n2026-04-14 (Martes)\n2026-04-15 (Miércoles)\n2026-04-16 (Jueves)
URL:https://previsonor.es/evento/c-14-curso-instalacion-mantenimiento-y-reparacion-de-equipos-informaticos-automatismos-y-su-programacion-ordenadores-y-sus-perifericos-o-dispositivos-auxiliares-quipos-y-tecnologias-de-telecomunic/
END:VEVENT
BEGIN:VEVENT
DTSTART;TZID=UTC:20260408T080000
DTEND;TZID=UTC:20260408T150000
DTSTAMP:20260424T061819
CREATED:20260325T090059Z
LAST-MODIFIED:20260424T060030Z
UID:6095-1775635200-1775660400@previsonor.es
SUMMARY:PRL PARA INSTALACIONES\, REPARACIONES\, MONTAJES\, ESTRUCTURAS METALICAS\, CERRAJERIA Y CARPINTERIA METALICA en PREVISONOR VIGO  de 2026-04-07 a 2026-04-09
DESCRIPTION:Modalidad: Presencial\n        Fecha de inicio: 2026-04-07\n        Fecha de finalización: 2026-04-09Duración: 20 horas \nFechas clases presenciales (20 horas): \n\n2026-04-07 (Martes)\n2026-04-08 (Miércoles)
URL:https://previsonor.es/evento/prl-para-instalaciones-reparaciones-montajes-estructuras-metalicas-cerrajeria-y-carpinteria-metalica-en-previsonor-vigo-de-2026-04-07-a-2026-04-09-2/
END:VEVENT
BEGIN:VEVENT
DTSTART;TZID=UTC:20260408T150000
DTEND;TZID=UTC:20260408T220000
DTSTAMP:20260424T061819
CREATED:20260401T100113Z
LAST-MODIFIED:20260424T060040Z
UID:6172-1775660400-1775685600@previsonor.es
SUMMARY:PREVENCION DE RIESGOS LABORALES PARA ALBAÑILERIA (20 H) en PREVISONOR PONTEVEDRA de 2026-04-08 a 2026-04-10
DESCRIPTION:Modalidad: Presencial\n        Fecha de inicio: 2026-04-08\n        Fecha de finalización: 2026-04-10Duración: 20 horas \nFechas clases presenciales (20 horas): \n\n2026-04-08 (Miércoles)\n2026-04-09 (Jueves)
URL:https://previsonor.es/evento/prevencion-de-riesgos-laborales-para-albanileria-20-h-en-previsonor-pontevedra-de-2026-04-08-a-2026-04-10/
END:VEVENT
BEGIN:VEVENT
DTSTART;TZID=UTC:20260409T080000
DTEND;TZID=UTC:20260409T140000
DTSTAMP:20260424T061819
CREATED:20260305T130145Z
LAST-MODIFIED:20260424T060023Z
UID:6046-1775721600-1775743200@previsonor.es
SUMMARY:NIVEL BASICO DE PREVENCION EN CONSTRUCCION 20P+40O en PREVISONOR GIJÓN y Aula Formanor de 2026-03-12 a 2026-04-09
DESCRIPTION:Modalidad: Presencial\n        Fecha de inicio: 2026-03-12\n        Fecha de finalización: 2026-04-09Duración: 60 horas \nFechas clases presenciales (20 horas): \n\n2026-03-12 (Jueves)\n2026-03-19 (Jueves)\n2026-03-26 (Jueves)\n2026-04-02 (Jueves)\n\n \n\n\n            Tutorías y teleformación (40 horas): \n\nLunes\, martes\, miércoles y viernes de 9 a 12
URL:https://previsonor.es/evento/nivel-basico-de-prevencion-en-construccion-20p40o-en-previsonor-gijon-y-aula-formanor-de-2026-03-12-a-2026-04-09-3/
END:VEVENT
BEGIN:VEVENT
DTSTART;TZID=UTC:20260409T080000
DTEND;TZID=UTC:20260409T140000
DTSTAMP:20260424T061819
CREATED:20260325T090059Z
LAST-MODIFIED:20260424T060031Z
UID:6096-1775721600-1775743200@previsonor.es
SUMMARY:PRL PARA INSTALACIONES\, REPARACIONES\, MONTAJES\, ESTRUCTURAS METALICAS\, CERRAJERIA Y CARPINTERIA METALICA en PREVISONOR VIGO  de 2026-04-07 a 2026-04-09
DESCRIPTION:Modalidad: Presencial\n        Fecha de inicio: 2026-04-07\n        Fecha de finalización: 2026-04-09Duración: 20 horas \nFechas clases presenciales (20 horas): \n\n2026-04-07 (Martes)\n2026-04-08 (Miércoles)
URL:https://previsonor.es/evento/prl-para-instalaciones-reparaciones-montajes-estructuras-metalicas-cerrajeria-y-carpinteria-metalica-en-previsonor-vigo-de-2026-04-07-a-2026-04-09-3/
END:VEVENT
BEGIN:VEVENT
DTSTART;TZID=UTC:20260409T080000
DTEND;TZID=UTC:20260409T140000
DTSTAMP:20260424T061819
CREATED:20260325T100101Z
LAST-MODIFIED:20260424T060031Z
UID:6102-1775721600-1775743200@previsonor.es
SUMMARY:CURSO ESPECIFICO PARA INSTALACIONES\, REPARACIONES\, MONTAJES\, ESTRUCTURAS METALICAS\, CERRAJERIA Y CARPINTERIA METALICA en PREVISONOR VIGO  de 2026-04-09 a 2026-04-09
DESCRIPTION:Modalidad: Presencial\n        Fecha de inicio: 2026-04-09\n        Fecha de finalización: 2026-04-09Duración: 6 horas
URL:https://previsonor.es/evento/curso-especifico-para-instalaciones-reparaciones-montajes-estructuras-metalicas-cerrajeria-y-carpinteria-metalica-en-previsonor-vigo-de-2026-04-09-a-2026-04-09/
END:VEVENT
BEGIN:VEVENT
DTSTART;TZID=UTC:20260409T150000
DTEND;TZID=UTC:20260409T220000
DTSTAMP:20260424T061819
CREATED:20260401T100114Z
LAST-MODIFIED:20260424T060041Z
UID:6173-1775746800-1775772000@previsonor.es
SUMMARY:PREVENCION DE RIESGOS LABORALES PARA ALBAÑILERIA (20 H) en PREVISONOR PONTEVEDRA de 2026-04-08 a 2026-04-10
DESCRIPTION:Modalidad: Presencial\n        Fecha de inicio: 2026-04-08\n        Fecha de finalización: 2026-04-10Duración: 20 horas \nFechas clases presenciales (20 horas): \n\n2026-04-08 (Miércoles)\n2026-04-09 (Jueves)
URL:https://previsonor.es/evento/prevencion-de-riesgos-laborales-para-albanileria-20-h-en-previsonor-pontevedra-de-2026-04-08-a-2026-04-10-2/
END:VEVENT
BEGIN:VEVENT
DTSTART;TZID=UTC:20260410T083000
DTEND;TZID=UTC:20260410T123000
DTSTAMP:20260424T061819
CREATED:20260325T140112Z
LAST-MODIFIED:20260424T060037Z
UID:6145-1775809800-1775824200@previsonor.es
SUMMARY:C.14 CURSO INSTALACIÓN\, MANTENIMIENTO Y REPARACIÓN DE EQUIPOS INFORMÁTICOS\, AUTOMATISMOS Y SU PROGRAMACIÓN\, ORDENADORES Y SUS PERIFÉRICOS O DISPOSITIVOS AUXILIARES; QUIPOS Y TECNOLOGÍAS DE TELECOMUNICACIONES Y DE LA INFORMACIÓN\, REDES DE INFORMACIÓN en INSTALACIONES TELEVES de 2026-04-07 a 2026-04-17
DESCRIPTION:Modalidad: Presencial\n        Fecha de inicio: 2026-04-07\n        Fecha de finalización: 2026-04-17Duración: 20 horas \nFechas clases presenciales (20 horas): \n\n2026-04-07 (Martes)\n2026-04-08 (Miércoles)\n2026-04-09 (Jueves)\n2026-04-10 (Viernes)\n2026-04-13 (Lunes)\n2026-04-14 (Martes)\n2026-04-15 (Miércoles)\n2026-04-16 (Jueves)
URL:https://previsonor.es/evento/c-14-curso-instalacion-mantenimiento-y-reparacion-de-equipos-informaticos-automatismos-y-su-programacion-ordenadores-y-sus-perifericos-o-dispositivos-auxiliares-quipos-y-tecnologias-de-telecomunic-2/
END:VEVENT
BEGIN:VEVENT
DTSTART;TZID=UTC:20260410T150000
DTEND;TZID=UTC:20260410T210000
DTSTAMP:20260424T061819
CREATED:20260401T100114Z
LAST-MODIFIED:20260424T060041Z
UID:6174-1775833200-1775854800@previsonor.es
SUMMARY:PREVENCION DE RIESGOS LABORALES PARA ALBAÑILERIA (20 H) en PREVISONOR PONTEVEDRA de 2026-04-08 a 2026-04-10
DESCRIPTION:Modalidad: Presencial\n        Fecha de inicio: 2026-04-08\n        Fecha de finalización: 2026-04-10Duración: 20 horas \nFechas clases presenciales (20 horas): \n\n2026-04-08 (Miércoles)\n2026-04-09 (Jueves)
URL:https://previsonor.es/evento/prevencion-de-riesgos-laborales-para-albanileria-20-h-en-previsonor-pontevedra-de-2026-04-08-a-2026-04-10-3/
END:VEVENT
BEGIN:VEVENT
DTSTART;TZID=UTC:20260410T150000
DTEND;TZID=UTC:20260410T210000
DTSTAMP:20260424T061819
CREATED:20260401T110114Z
LAST-MODIFIED:20260424T060042Z
UID:6180-1775833200-1775854800@previsonor.es
SUMMARY:CURSO ESPECIFICO PARA ALBAÑILERIA en PREVISONOR PONTEVEDRA de 2026-04-10 a 2026-04-10
DESCRIPTION:Modalidad: Presencial\n        Fecha de inicio: 2026-04-10\n        Fecha de finalización: 2026-04-10Duración: 6 horas
URL:https://previsonor.es/evento/curso-especifico-para-albanileria-en-previsonor-pontevedra-de-2026-04-10-a-2026-04-10/
END:VEVENT
BEGIN:VEVENT
DTSTART;TZID=UTC:20260411T080000
DTEND;TZID=UTC:20260411T140000
DTSTAMP:20260424T061819
CREATED:20260401T100115Z
LAST-MODIFIED:20260424T060041Z
UID:6175-1775894400-1775916000@previsonor.es
SUMMARY:CURSO ESPECIFICO PARA VEHICULOS Y MAQUINARIA DE MOVIMIENTO DE TIERRAS en PREVISONOR PONTEVEDRA de 2026-04-11 a 2026-04-11
DESCRIPTION:Modalidad: Presencial\n        Fecha de inicio: 2026-04-11\n        Fecha de finalización: 2026-04-11Duración: 6 horas
URL:https://previsonor.es/evento/curso-especifico-para-vehiculos-y-maquinaria-de-movimiento-de-tierras-en-previsonor-pontevedra-de-2026-04-11-a-2026-04-11/
END:VEVENT
BEGIN:VEVENT
DTSTART;TZID=UTC:20260411T080000
DTEND;TZID=UTC:20260411T160000
DTSTAMP:20260424T061819
CREATED:20260304T090138Z
LAST-MODIFIED:20260424T060021Z
UID:6007-1775894400-1775923200@previsonor.es
SUMMARY:PREVENCION DE RIESGOS LABORALES PARA TRABAJOS EN TALLERES DE REPACION DE VEHÍCULOS 20H en INSTALACIONES MAXIDEZA de 2026-03-21 a 2026-04-11
DESCRIPTION:Modalidad: Presencial\n        Fecha de inicio: 2026-03-21\n        Fecha de finalización: 2026-04-11Duración: 20 horas \nFechas clases presenciales (20 horas): \n\n2026-03-21 (Sábado)\n2026-03-28 (Sábado)\n2026-04-04 (Sábado)
URL:https://previsonor.es/evento/prevencion-de-riesgos-laborales-para-trabajos-en-talleres-de-repacion-de-vehiculos-20h-en-instalaciones-maxideza-de-2026-03-21-a-2026-04-11-3/
END:VEVENT
BEGIN:VEVENT
DTSTART;TZID=UTC:20260411T080000
DTEND;TZID=UTC:20260411T160000
DTSTAMP:20260424T061819
CREATED:20260304T090138Z
LAST-MODIFIED:20260424T060021Z
UID:6008-1775894400-1775923200@previsonor.es
SUMMARY:CURSO ESPECIFICO PARA TRABAJOS EN TALLERES DE REPARACION DE VEHICULOS 8H en INSTALACIONES MAXIDEZA de 2026-04-11 a 2026-04-11
DESCRIPTION:Modalidad: Presencial\n        Fecha de inicio: 2026-04-11\n        Fecha de finalización: 2026-04-11Duración: 8 horas
URL:https://previsonor.es/evento/curso-especifico-para-trabajos-en-talleres-de-reparacion-de-vehiculos-8h-en-instalaciones-maxideza-de-2026-04-11-a-2026-04-11/
END:VEVENT
BEGIN:VEVENT
DTSTART;TZID=UTC:20260413T080000
DTEND;TZID=UTC:20260413T150000
DTSTAMP:20260424T061819
CREATED:20260325T100105Z
LAST-MODIFIED:20260424T060034Z
UID:6110-1776067200-1776092400@previsonor.es
SUMMARY:PREVENCION DE RIESGOS LABORALES PARA ALBAÑILERIA (20 H) en PREVISONOR VIGO  de 2026-04-13 a 2026-04-15
DESCRIPTION:Modalidad: Presencial\n        Fecha de inicio: 2026-04-13\n        Fecha de finalización: 2026-04-15Duración: 20 horas \nFechas clases presenciales (20 horas): \n\n2026-04-13 (Lunes)\n2026-04-14 (Martes)
URL:https://previsonor.es/evento/prevencion-de-riesgos-laborales-para-albanileria-20-h-en-previsonor-vigo-de-2026-04-13-a-2026-04-15/
END:VEVENT
BEGIN:VEVENT
DTSTART;TZID=UTC:20260413T080000
DTEND;TZID=UTC:20260413T150000
DTSTAMP:20260424T061819
CREATED:20260410T120100Z
LAST-MODIFIED:20260424T060045Z
UID:6193-1776067200-1776092400@previsonor.es
SUMMARY:PREVENCION DE RIESGOS LABORALES PARA OPERADORES DE VEHICULOS Y MAQUINARIA DE MOVIMIENTO DE TIERRAS (20 H) en PREVISONOR VIGO  de 2026-04-13 a 2026-04-16
DESCRIPTION:Modalidad: Presencial\n        Fecha de inicio: 2026-04-13\n        Fecha de finalización: 2026-04-16Duración: 20 horas \nFechas clases presenciales (20 horas): \n\n2026-04-13 (Lunes)\n2026-04-14 (Martes)
URL:https://previsonor.es/evento/prevencion-de-riesgos-laborales-para-operadores-de-vehiculos-y-maquinaria-de-movimiento-de-tierras-20-h-en-previsonor-vigo-de-2026-04-13-a-2026-04-16/
END:VEVENT
BEGIN:VEVENT
DTSTART;TZID=UTC:20260413T083000
DTEND;TZID=UTC:20260413T123000
DTSTAMP:20260424T061819
CREATED:20260325T140113Z
LAST-MODIFIED:20260424T060037Z
UID:6146-1776069000-1776083400@previsonor.es
SUMMARY:C.14 CURSO INSTALACIÓN\, MANTENIMIENTO Y REPARACIÓN DE EQUIPOS INFORMÁTICOS\, AUTOMATISMOS Y SU PROGRAMACIÓN\, ORDENADORES Y SUS PERIFÉRICOS O DISPOSITIVOS AUXILIARES; QUIPOS Y TECNOLOGÍAS DE TELECOMUNICACIONES Y DE LA INFORMACIÓN\, REDES DE INFORMACIÓN en INSTALACIONES TELEVES de 2026-04-07 a 2026-04-17
DESCRIPTION:Modalidad: Presencial\n        Fecha de inicio: 2026-04-07\n        Fecha de finalización: 2026-04-17Duración: 20 horas \nFechas clases presenciales (20 horas): \n\n2026-04-07 (Martes)\n2026-04-08 (Miércoles)\n2026-04-09 (Jueves)\n2026-04-10 (Viernes)\n2026-04-13 (Lunes)\n2026-04-14 (Martes)\n2026-04-15 (Miércoles)\n2026-04-16 (Jueves)
URL:https://previsonor.es/evento/c-14-curso-instalacion-mantenimiento-y-reparacion-de-equipos-informaticos-automatismos-y-su-programacion-ordenadores-y-sus-perifericos-o-dispositivos-auxiliares-quipos-y-tecnologias-de-telecomunic-3/
END:VEVENT
END:VCALENDAR