BEGIN:VCALENDAR
VERSION:2.0
PRODID:-//Previsonor - ECPv6.15.15//NONSGML v1.0//EN
CALSCALE:GREGORIAN
METHOD:PUBLISH
X-WR-CALNAME:Previsonor
X-ORIGINAL-URL:https://previsonor.es
X-WR-CALDESC:Eventos para Previsonor
REFRESH-INTERVAL;VALUE=DURATION:PT1H
X-Robots-Tag:noindex
X-PUBLISHED-TTL:PT1H
BEGIN:VTIMEZONE
TZID:UTC
BEGIN:STANDARD
TZOFFSETFROM:+0000
TZOFFSETTO:+0000
TZNAME:UTC
DTSTART:20250101T000000
END:STANDARD
END:VTIMEZONE
BEGIN:VEVENT
DTSTART;TZID=UTC:20260415T080000
DTEND;TZID=UTC:20260415T140000
DTSTAMP:20260421T105708
CREATED:20260325T100106Z
LAST-MODIFIED:20260421T100034Z
UID:6112-1776240000-1776261600@previsonor.es
SUMMARY:PREVENCION DE RIESGOS LABORALES PARA ALBAÑILERIA (20 H) en PREVISONOR VIGO  de 2026-04-13 a 2026-04-15
DESCRIPTION:Modalidad: Presencial\n        Fecha de inicio: 2026-04-13\n        Fecha de finalización: 2026-04-15Duración: 20 horas \nFechas clases presenciales (20 horas): \n\n2026-04-13 (Lunes)\n2026-04-14 (Martes)
URL:https://previsonor.es/evento/prevencion-de-riesgos-laborales-para-albanileria-20-h-en-previsonor-vigo-de-2026-04-13-a-2026-04-15-3/
END:VEVENT
BEGIN:VEVENT
DTSTART;TZID=UTC:20260415T080000
DTEND;TZID=UTC:20260415T140000
DTSTAMP:20260421T105708
CREATED:20260325T100106Z
LAST-MODIFIED:20260421T100035Z
UID:6113-1776240000-1776261600@previsonor.es
SUMMARY:CURSO ESPECIFICO PARA ALBAÑILERIA en PREVISONOR VIGO  de 2026-04-15 a 2026-04-15
DESCRIPTION:Modalidad: Presencial\n        Fecha de inicio: 2026-04-15\n        Fecha de finalización: 2026-04-15Duración: 6 horas
URL:https://previsonor.es/evento/curso-especifico-para-albanileria-en-previsonor-vigo-de-2026-04-15-a-2026-04-15/
END:VEVENT
BEGIN:VEVENT
DTSTART;TZID=UTC:20260415T083000
DTEND;TZID=UTC:20260415T123000
DTSTAMP:20260421T105708
CREATED:20260325T140113Z
LAST-MODIFIED:20260421T100040Z
UID:6147-1776241800-1776256200@previsonor.es
SUMMARY:C.14 CURSO INSTALACIÓN\, MANTENIMIENTO Y REPARACIÓN DE EQUIPOS INFORMÁTICOS\, AUTOMATISMOS Y SU PROGRAMACIÓN\, ORDENADORES Y SUS PERIFÉRICOS O DISPOSITIVOS AUXILIARES; QUIPOS Y TECNOLOGÍAS DE TELECOMUNICACIONES Y DE LA INFORMACIÓN\, REDES DE INFORMACIÓN en INSTALACIONES TELEVES de 2026-04-07 a 2026-04-17
DESCRIPTION:Modalidad: Presencial\n        Fecha de inicio: 2026-04-07\n        Fecha de finalización: 2026-04-17Duración: 20 horas \nFechas clases presenciales (20 horas): \n\n2026-04-07 (Martes)\n2026-04-08 (Miércoles)\n2026-04-09 (Jueves)\n2026-04-10 (Viernes)\n2026-04-13 (Lunes)\n2026-04-14 (Martes)\n2026-04-15 (Miércoles)\n2026-04-16 (Jueves)
URL:https://previsonor.es/evento/c-14-curso-instalacion-mantenimiento-y-reparacion-de-equipos-informaticos-automatismos-y-su-programacion-ordenadores-y-sus-perifericos-o-dispositivos-auxiliares-quipos-y-tecnologias-de-telecomunic-4/
END:VEVENT
BEGIN:VEVENT
DTSTART;TZID=UTC:20260415T083000
DTEND;TZID=UTC:20260415T123000
DTSTAMP:20260421T105708
CREATED:20260331T090107Z
LAST-MODIFIED:20260421T100041Z
UID:6158-1776241800-1776256200@previsonor.es
SUMMARY:TRABAJOS DE INSTALACIÓN\, MANTENIMIENTO Y REPARACIÓN DE EQUIPOS INFORMÁTICOS\, AUTOMATISMOS Y SU PROGRAMACIÓN\, ORDENADORES Y SUS PERIFÉRICOS O DISPOSITIVOS AUXILIARES; EQUIPOS Y TECNOLOGÍAS DE TELECOMUNICACIONES Y DE LA INFORMACIÓN\,REDES DE INFORMACIÓN(TICS) en INSTALACIONES TELEVES de 2026-04-15 a 2026-04-17
DESCRIPTION:Modalidad: Presencial\n        Fecha de inicio: 2026-04-15\n        Fecha de finalización: 2026-04-17Duración: 8 horas \nFechas clases presenciales (8 horas): \n\n2026-04-15 (Miércoles)
URL:https://previsonor.es/evento/trabajos-de-instalacion-mantenimiento-y-reparacion-de-equipos-informaticos-automatismos-y-su-programacion-ordenadores-y-sus-perifericos-o-dispositivos-auxiliares-equipos-y-tecnologias-de-telecomun/
END:VEVENT
BEGIN:VEVENT
DTSTART;TZID=UTC:20260415T150000
DTEND;TZID=UTC:20260415T190000
DTSTAMP:20260421T105708
CREATED:20260410T090058Z
LAST-MODIFIED:20260421T100045Z
UID:6185-1776265200-1776279600@previsonor.es
SUMMARY:PREVENCION DE RIESGOS LABORALES PARA TRABAJOS EN TALLERES DE REPACION DE VEHÍCULOS 20H en SEDE HYUNDAI de 2026-04-13 a 2026-04-17
DESCRIPTION:Modalidad: Presencial\n        Fecha de inicio: 2026-04-13\n        Fecha de finalización: 2026-04-17Duración: 20 horas \nFechas clases presenciales (20 horas): \n\n2026-04-13 (Lunes)\n2026-04-14 (Martes)\n2026-04-15 (Miércoles)\n2026-04-16 (Jueves)
URL:https://previsonor.es/evento/prevencion-de-riesgos-laborales-para-trabajos-en-talleres-de-repacion-de-vehiculos-20h-en-sede-hyundai-de-2026-04-13-a-2026-04-17-3/
END:VEVENT
END:VCALENDAR