BEGIN:VCALENDAR
VERSION:2.0
PRODID:-//Previsonor - ECPv6.15.15//NONSGML v1.0//EN
CALSCALE:GREGORIAN
METHOD:PUBLISH
X-WR-CALNAME:Previsonor
X-ORIGINAL-URL:https://previsonor.es
X-WR-CALDESC:Eventos para Previsonor
REFRESH-INTERVAL;VALUE=DURATION:PT1H
X-Robots-Tag:noindex
X-PUBLISHED-TTL:PT1H
BEGIN:VTIMEZONE
TZID:UTC
BEGIN:STANDARD
TZOFFSETFROM:+0000
TZOFFSETTO:+0000
TZNAME:UTC
DTSTART:20250101T000000
END:STANDARD
END:VTIMEZONE
BEGIN:VEVENT
DTSTART;TZID=UTC:20260411T080000
DTEND;TZID=UTC:20260411T140000
DTSTAMP:20260421T105643
CREATED:20260401T100115Z
LAST-MODIFIED:20260421T100043Z
UID:6175-1775894400-1775916000@previsonor.es
SUMMARY:CURSO ESPECIFICO PARA VEHICULOS Y MAQUINARIA DE MOVIMIENTO DE TIERRAS en PREVISONOR PONTEVEDRA de 2026-04-11 a 2026-04-11
DESCRIPTION:Modalidad: Presencial\n        Fecha de inicio: 2026-04-11\n        Fecha de finalización: 2026-04-11Duración: 6 horas
URL:https://previsonor.es/evento/curso-especifico-para-vehiculos-y-maquinaria-de-movimiento-de-tierras-en-previsonor-pontevedra-de-2026-04-11-a-2026-04-11/
END:VEVENT
BEGIN:VEVENT
DTSTART;TZID=UTC:20260411T080000
DTEND;TZID=UTC:20260411T160000
DTSTAMP:20260421T105643
CREATED:20260304T090138Z
LAST-MODIFIED:20260421T100021Z
UID:6008-1775894400-1775923200@previsonor.es
SUMMARY:CURSO ESPECIFICO PARA TRABAJOS EN TALLERES DE REPARACION DE VEHICULOS 8H en INSTALACIONES MAXIDEZA de 2026-04-11 a 2026-04-11
DESCRIPTION:Modalidad: Presencial\n        Fecha de inicio: 2026-04-11\n        Fecha de finalización: 2026-04-11Duración: 8 horas
URL:https://previsonor.es/evento/curso-especifico-para-trabajos-en-talleres-de-reparacion-de-vehiculos-8h-en-instalaciones-maxideza-de-2026-04-11-a-2026-04-11/
END:VEVENT
BEGIN:VEVENT
DTSTART;TZID=UTC:20260411T080000
DTEND;TZID=UTC:20260411T160000
DTSTAMP:20260421T105643
CREATED:20260304T090138Z
LAST-MODIFIED:20260421T100020Z
UID:6007-1775894400-1775923200@previsonor.es
SUMMARY:PREVENCION DE RIESGOS LABORALES PARA TRABAJOS EN TALLERES DE REPACION DE VEHÍCULOS 20H en INSTALACIONES MAXIDEZA de 2026-03-21 a 2026-04-11
DESCRIPTION:Modalidad: Presencial\n        Fecha de inicio: 2026-03-21\n        Fecha de finalización: 2026-04-11Duración: 20 horas \nFechas clases presenciales (20 horas): \n\n2026-03-21 (Sábado)\n2026-03-28 (Sábado)\n2026-04-04 (Sábado)
URL:https://previsonor.es/evento/prevencion-de-riesgos-laborales-para-trabajos-en-talleres-de-repacion-de-vehiculos-20h-en-instalaciones-maxideza-de-2026-03-21-a-2026-04-11-3/
END:VEVENT
END:VCALENDAR