BEGIN:VCALENDAR
VERSION:2.0
PRODID:-//Previsonor - ECPv6.15.15//NONSGML v1.0//EN
CALSCALE:GREGORIAN
METHOD:PUBLISH
X-WR-CALNAME:Previsonor
X-ORIGINAL-URL:https://previsonor.es
X-WR-CALDESC:Eventos para Previsonor
REFRESH-INTERVAL;VALUE=DURATION:PT1H
X-Robots-Tag:noindex
X-PUBLISHED-TTL:PT1H
BEGIN:VTIMEZONE
TZID:UTC
BEGIN:STANDARD
TZOFFSETFROM:+0000
TZOFFSETTO:+0000
TZNAME:UTC
DTSTART:20250101T000000
END:STANDARD
END:VTIMEZONE
BEGIN:VEVENT
DTSTART;TZID=UTC:20260408T080000
DTEND;TZID=UTC:20260408T150000
DTSTAMP:20260421T105621
CREATED:20260325T090059Z
LAST-MODIFIED:20260421T100029Z
UID:6095-1775635200-1775660400@previsonor.es
SUMMARY:PRL PARA INSTALACIONES\, REPARACIONES\, MONTAJES\, ESTRUCTURAS METALICAS\, CERRAJERIA Y CARPINTERIA METALICA en PREVISONOR VIGO  de 2026-04-07 a 2026-04-09
DESCRIPTION:Modalidad: Presencial\n        Fecha de inicio: 2026-04-07\n        Fecha de finalización: 2026-04-09Duración: 20 horas \nFechas clases presenciales (20 horas): \n\n2026-04-07 (Martes)\n2026-04-08 (Miércoles)
URL:https://previsonor.es/evento/prl-para-instalaciones-reparaciones-montajes-estructuras-metalicas-cerrajeria-y-carpinteria-metalica-en-previsonor-vigo-de-2026-04-07-a-2026-04-09-2/
END:VEVENT
BEGIN:VEVENT
DTSTART;TZID=UTC:20260408T150000
DTEND;TZID=UTC:20260408T220000
DTSTAMP:20260421T105621
CREATED:20260401T100113Z
LAST-MODIFIED:20260421T100042Z
UID:6172-1775660400-1775685600@previsonor.es
SUMMARY:PREVENCION DE RIESGOS LABORALES PARA ALBAÑILERIA (20 H) en PREVISONOR PONTEVEDRA de 2026-04-08 a 2026-04-10
DESCRIPTION:Modalidad: Presencial\n        Fecha de inicio: 2026-04-08\n        Fecha de finalización: 2026-04-10Duración: 20 horas \nFechas clases presenciales (20 horas): \n\n2026-04-08 (Miércoles)\n2026-04-09 (Jueves)
URL:https://previsonor.es/evento/prevencion-de-riesgos-laborales-para-albanileria-20-h-en-previsonor-pontevedra-de-2026-04-08-a-2026-04-10/
END:VEVENT
END:VCALENDAR