BEGIN:VCALENDAR
VERSION:2.0
PRODID:-//Previsonor - ECPv6.15.15//NONSGML v1.0//EN
CALSCALE:GREGORIAN
METHOD:PUBLISH
X-ORIGINAL-URL:https://previsonor.es
X-WR-CALDESC:Eventos para Previsonor
REFRESH-INTERVAL;VALUE=DURATION:PT1H
X-Robots-Tag:noindex
X-PUBLISHED-TTL:PT1H
BEGIN:VTIMEZONE
TZID:UTC
BEGIN:STANDARD
TZOFFSETFROM:+0000
TZOFFSETTO:+0000
TZNAME:UTC
DTSTART:20250101T000000
END:STANDARD
END:VTIMEZONE
BEGIN:VEVENT
DTSTART;TZID=UTC:20260407T080000
DTEND;TZID=UTC:20260407T150000
DTSTAMP:20260421T105846
CREATED:20260325T090058Z
LAST-MODIFIED:20260421T100029Z
UID:6094-1775548800-1775574000@previsonor.es
SUMMARY:PRL PARA INSTALACIONES\, REPARACIONES\, MONTAJES\, ESTRUCTURAS METALICAS\, CERRAJERIA Y CARPINTERIA METALICA en PREVISONOR VIGO  de 2026-04-07 a 2026-04-09
DESCRIPTION:Modalidad: Presencial\n        Fecha de inicio: 2026-04-07\n        Fecha de finalización: 2026-04-09Duración: 20 horas \nFechas clases presenciales (20 horas): \n\n2026-04-07 (Martes)\n2026-04-08 (Miércoles)
URL:https://previsonor.es/evento/prl-para-instalaciones-reparaciones-montajes-estructuras-metalicas-cerrajeria-y-carpinteria-metalica-en-previsonor-vigo-de-2026-04-07-a-2026-04-09/
END:VEVENT
BEGIN:VEVENT
DTSTART;TZID=UTC:20260407T083000
DTEND;TZID=UTC:20260407T123000
DTSTAMP:20260421T105846
CREATED:20260325T140112Z
LAST-MODIFIED:20260421T100038Z
UID:6144-1775550600-1775565000@previsonor.es
SUMMARY:C.14 CURSO INSTALACIÓN\, MANTENIMIENTO Y REPARACIÓN DE EQUIPOS INFORMÁTICOS\, AUTOMATISMOS Y SU PROGRAMACIÓN\, ORDENADORES Y SUS PERIFÉRICOS O DISPOSITIVOS AUXILIARES; QUIPOS Y TECNOLOGÍAS DE TELECOMUNICACIONES Y DE LA INFORMACIÓN\, REDES DE INFORMACIÓN en INSTALACIONES TELEVES de 2026-04-07 a 2026-04-17
DESCRIPTION:Modalidad: Presencial\n        Fecha de inicio: 2026-04-07\n        Fecha de finalización: 2026-04-17Duración: 20 horas \nFechas clases presenciales (20 horas): \n\n2026-04-07 (Martes)\n2026-04-08 (Miércoles)\n2026-04-09 (Jueves)\n2026-04-10 (Viernes)\n2026-04-13 (Lunes)\n2026-04-14 (Martes)\n2026-04-15 (Miércoles)\n2026-04-16 (Jueves)
URL:https://previsonor.es/evento/c-14-curso-instalacion-mantenimiento-y-reparacion-de-equipos-informaticos-automatismos-y-su-programacion-ordenadores-y-sus-perifericos-o-dispositivos-auxiliares-quipos-y-tecnologias-de-telecomunic/
END:VEVENT
END:VCALENDAR