BEGIN:VCALENDAR
VERSION:2.0
PRODID:-//Previsonor - ECPv6.15.15//NONSGML v1.0//EN
CALSCALE:GREGORIAN
METHOD:PUBLISH
X-WR-CALNAME:Previsonor
X-ORIGINAL-URL:https://previsonor.es
X-WR-CALDESC:Eventos para Previsonor
REFRESH-INTERVAL;VALUE=DURATION:PT1H
X-Robots-Tag:noindex
X-PUBLISHED-TTL:PT1H
BEGIN:VTIMEZONE
TZID:UTC
BEGIN:STANDARD
TZOFFSETFROM:+0000
TZOFFSETTO:+0000
TZNAME:UTC
DTSTART:20250101T000000
END:STANDARD
END:VTIMEZONE
BEGIN:VEVENT
DTSTART;TZID=UTC:20260326T080000
DTEND;TZID=UTC:20260326T140000
DTSTAMP:20260421T124024
CREATED:20260224T150118Z
LAST-MODIFIED:20260421T120013Z
UID:5918-1774512000-1774533600@previsonor.es
SUMMARY:PREVENCION DE RIESGOS LABORALES PARA ALBAÑILERIA (20 H) en PREVISONOR VIGO  de 2026-03-24 a 2026-03-26
DESCRIPTION:Modalidad: Presencial\n        Fecha de inicio: 2026-03-24\n        Fecha de finalización: 2026-03-26Duración: 20 horas \nFechas clases presenciales (20 horas): \n\n2026-03-24 (Martes)\n2026-03-25 (Miércoles)
URL:https://previsonor.es/evento/prevencion-de-riesgos-laborales-para-albanileria-20-h-en-previsonor-vigo-de-2026-03-24-a-2026-03-26-3/
END:VEVENT
BEGIN:VEVENT
DTSTART;TZID=UTC:20260326T080000
DTEND;TZID=UTC:20260326T140000
DTSTAMP:20260421T124024
CREATED:20260224T150119Z
LAST-MODIFIED:20260421T120015Z
UID:5921-1774512000-1774533600@previsonor.es
SUMMARY:PREVENCION DE RIESGOS LABORALES PARA INSTALACION DE CARPINTERIA DE MADERA Y MUEBLE (20H) en PREVISONOR VIGO  de 2026-03-24 a 2026-03-26
DESCRIPTION:Modalidad: Presencial\n        Fecha de inicio: 2026-03-24\n        Fecha de finalización: 2026-03-26Duración: 20 horas \nFechas clases presenciales (20 horas): \n\n2026-03-24 (Martes)\n2026-03-25 (Miércoles)
URL:https://previsonor.es/evento/prevencion-de-riesgos-laborales-para-instalacion-de-carpinteria-de-madera-y-mueble-20h-en-previsonor-vigo-de-2026-03-24-a-2026-03-26-3/
END:VEVENT
BEGIN:VEVENT
DTSTART;TZID=UTC:20260326T080000
DTEND;TZID=UTC:20260326T140000
DTSTAMP:20260421T124024
CREATED:20260305T130148Z
LAST-MODIFIED:20260421T120027Z
UID:6050-1774512000-1774533600@previsonor.es
SUMMARY:CURSO ESPECIFICO PARA ALBAÑILERIA en PREVISONOR VIGO  de 2026-03-26 a 2026-03-26
DESCRIPTION:Modalidad: Presencial\n        Fecha de inicio: 2026-03-26\n        Fecha de finalización: 2026-03-26Duración: 6 horas
URL:https://previsonor.es/evento/curso-especifico-para-albanileria-en-previsonor-vigo-de-2026-03-26-a-2026-03-26/
END:VEVENT
BEGIN:VEVENT
DTSTART;TZID=UTC:20260326T080000
DTEND;TZID=UTC:20260326T140000
DTSTAMP:20260421T124024
CREATED:20260415T090027Z
LAST-MODIFIED:20260421T120029Z
UID:6227-1774512000-1774533600@previsonor.es
SUMMARY:CURSO ESPECIFICO PARA INSTALADOR DE ELEMENTOS DE CARPINTERIA DE MADERA Y MUEBLE en PREVISONOR VIGO  de 2026-03-26 a 2026-03-26
DESCRIPTION:Modalidad: Presencial\n        Fecha de inicio: 2026-03-26\n        Fecha de finalización: 2026-03-26Duración: 6 horas
URL:https://previsonor.es/evento/curso-especifico-para-instalador-de-elementos-de-carpinteria-de-madera-y-mueble-en-previsonor-vigo-de-2026-03-26-a-2026-03-26/
END:VEVENT
BEGIN:VEVENT
DTSTART;TZID=UTC:20260326T080000
DTEND;TZID=UTC:20260326T150000
DTSTAMP:20260421T124024
CREATED:20260305T130145Z
LAST-MODIFIED:20260421T120026Z
UID:6045-1774512000-1774537200@previsonor.es
SUMMARY:NIVEL BASICO DE PREVENCION EN CONSTRUCCION 20P+40O en PREVISONOR GIJÓN y Aula Formanor de 2026-03-12 a 2026-04-09
DESCRIPTION:Modalidad: Presencial\n        Fecha de inicio: 2026-03-12\n        Fecha de finalización: 2026-04-09Duración: 60 horas \nFechas clases presenciales (20 horas): \n\n2026-03-12 (Jueves)\n2026-03-19 (Jueves)\n2026-03-26 (Jueves)\n2026-04-02 (Jueves)\n\n \n\n\n            Tutorías y teleformación (40 horas): \n\nLunes\, martes\, miércoles y viernes de 9 a 12
URL:https://previsonor.es/evento/nivel-basico-de-prevencion-en-construccion-20p40o-en-previsonor-gijon-y-aula-formanor-de-2026-03-12-a-2026-04-09-2/
END:VEVENT
END:VCALENDAR