BEGIN:VCALENDAR
VERSION:2.0
PRODID:-//Previsonor - ECPv6.15.15//NONSGML v1.0//EN
CALSCALE:GREGORIAN
METHOD:PUBLISH
X-WR-CALNAME:Previsonor
X-ORIGINAL-URL:https://previsonor.es
X-WR-CALDESC:Eventos para Previsonor
REFRESH-INTERVAL;VALUE=DURATION:PT1H
X-Robots-Tag:noindex
X-PUBLISHED-TTL:PT1H
BEGIN:VTIMEZONE
TZID:UTC
BEGIN:STANDARD
TZOFFSETFROM:+0000
TZOFFSETTO:+0000
TZNAME:UTC
DTSTART:20250101T000000
END:STANDARD
END:VTIMEZONE
BEGIN:VEVENT
DTSTART;TZID=UTC:20260323T090000
DTEND;TZID=UTC:20260323T140000
DTSTAMP:20260421T141906
CREATED:20260224T150109Z
LAST-MODIFIED:20260421T140007Z
UID:5901-1774256400-1774274400@previsonor.es
SUMMARY:NIVEL BASICO DE PREVENCION EN CONSTRUCCION 20P+40O en PREVISONOR VIGO  y Aula Formanor de 2026-03-09 a 2026-03-30
DESCRIPTION:Modalidad: Presencial\n        Fecha de inicio: 2026-03-09\n        Fecha de finalización: 2026-03-30Duración: 60 horas \nFechas clases presenciales (20 horas): \n\n2026-03-09 (Lunes)\n2026-03-16 (Lunes)\n2026-03-23 (Lunes)\n\n \n\n\n            Tutorías y teleformación (40 horas):
URL:https://previsonor.es/evento/nivel-basico-de-prevencion-en-construccion-20p40o-en-previsonor-vigo-y-aula-formanor-de-2026-03-09-a-2026-03-30-3/
END:VEVENT
END:VCALENDAR